BEGIN:VCALENDAR
VERSION:2.0
PRODID:-//Brixton Seventh-day Adventist Church - ECPv6.15.20//NONSGML v1.0//EN
CALSCALE:GREGORIAN
METHOD:PUBLISH
X-WR-CALNAME:Brixton Seventh-day Adventist Church
X-ORIGINAL-URL:https://brixtonsda.co.uk
X-WR-CALDESC:Events for Brixton Seventh-day Adventist Church
REFRESH-INTERVAL;VALUE=DURATION:PT1H
X-Robots-Tag:noindex
X-PUBLISHED-TTL:PT1H
BEGIN:VTIMEZONE
TZID:UTC
BEGIN:STANDARD
TZOFFSETFROM:+0000
TZOFFSETTO:+0000
TZNAME:UTC
DTSTART:20250101T000000
END:STANDARD
END:VTIMEZONE
BEGIN:VEVENT
DTSTART;TZID=UTC:20260203T190000
DTEND;TZID=UTC:20260203T200000
DTSTAMP:20260424T160318
CREATED:20260118T145703Z
LAST-MODIFIED:20260118T145703Z
UID:10004120-1770145200-1770148800@brixtonsda.co.uk
SUMMARY:Fitness Tuesdays
DESCRIPTION:This exercise session is FREE to attend
URL:https://brixtonsda.co.uk/event/fitness-tuesdays/2026-02-03/
LOCATION:Brixton SDA Church Hall\, Santley Street\, SW4 7QG
CATEGORIES:fitness
GEO:51.4614487;-0.1223025
X-APPLE-STRUCTURED-LOCATION;VALUE=URI;X-ADDRESS=Brixton SDA Church Hall Santley Street SW4 7QG;X-APPLE-RADIUS=500;X-TITLE=Santley Street:geo:-0.1223025,51.4614487
END:VEVENT
BEGIN:VEVENT
DTSTART;TZID=UTC:20260207T080000
DTEND;TZID=UTC:20260207T170000
DTSTAMP:20260424T160318
CREATED:20260206T173227Z
LAST-MODIFIED:20260206T173227Z
UID:10004167-1770451200-1770483600@brixtonsda.co.uk
SUMMARY:Living Life - (Do Not Kill)
DESCRIPTION:
URL:https://brixtonsda.co.uk/event/living-life-do-not-kill/
LOCATION:Brixton SDA Church\, Santley Street\, SW4 7QG
GEO:51.4614487;-0.1223025
X-APPLE-STRUCTURED-LOCATION;VALUE=URI;X-ADDRESS=Brixton SDA Church Santley Street SW4 7QG;X-APPLE-RADIUS=500;X-TITLE=Santley Street:geo:-0.1223025,51.4614487
END:VEVENT
BEGIN:VEVENT
DTSTART;TZID=UTC:20260210T190000
DTEND;TZID=UTC:20260210T200000
DTSTAMP:20260424T160318
CREATED:20260118T145703Z
LAST-MODIFIED:20260118T145703Z
UID:10004121-1770750000-1770753600@brixtonsda.co.uk
SUMMARY:Fitness Tuesdays
DESCRIPTION:This exercise session is FREE to attend
URL:https://brixtonsda.co.uk/event/fitness-tuesdays/2026-02-10/
LOCATION:Brixton SDA Church Hall\, Santley Street\, SW4 7QG
CATEGORIES:fitness
GEO:51.4614487;-0.1223025
X-APPLE-STRUCTURED-LOCATION;VALUE=URI;X-ADDRESS=Brixton SDA Church Hall Santley Street SW4 7QG;X-APPLE-RADIUS=500;X-TITLE=Santley Street:geo:-0.1223025,51.4614487
END:VEVENT
BEGIN:VEVENT
DTSTART;TZID=UTC:20260214T080000
DTEND;TZID=UTC:20260214T170000
DTSTAMP:20260424T160318
CREATED:20260206T173817Z
LAST-MODIFIED:20260206T173817Z
UID:10004168-1771056000-1771088400@brixtonsda.co.uk
SUMMARY:Loving with Purity - (Do not commit Adultery (Home and Family Week.
DESCRIPTION:Guest Speaker
URL:https://brixtonsda.co.uk/event/loving-with-purity-do-not-commit-adultery-home-and-family-week/
LOCATION:Brixton SDA Church\, Santley Street\, SW4 7QG
GEO:51.4614487;-0.1223025
X-APPLE-STRUCTURED-LOCATION;VALUE=URI;X-ADDRESS=Brixton SDA Church Santley Street SW4 7QG;X-APPLE-RADIUS=500;X-TITLE=Santley Street:geo:-0.1223025,51.4614487
END:VEVENT
BEGIN:VEVENT
DTSTART;TZID=UTC:20260217T190000
DTEND;TZID=UTC:20260217T200000
DTSTAMP:20260424T160318
CREATED:20260118T145703Z
LAST-MODIFIED:20260118T145703Z
UID:10004122-1771354800-1771358400@brixtonsda.co.uk
SUMMARY:Fitness Tuesdays
DESCRIPTION:This exercise session is FREE to attend
URL:https://brixtonsda.co.uk/event/fitness-tuesdays/2026-02-17/
LOCATION:Brixton SDA Church Hall\, Santley Street\, SW4 7QG
CATEGORIES:fitness
GEO:51.4614487;-0.1223025
X-APPLE-STRUCTURED-LOCATION;VALUE=URI;X-ADDRESS=Brixton SDA Church Hall Santley Street SW4 7QG;X-APPLE-RADIUS=500;X-TITLE=Santley Street:geo:-0.1223025,51.4614487
END:VEVENT
BEGIN:VEVENT
DTSTART;TZID=UTC:20260221T080000
DTEND;TZID=UTC:20260221T170000
DTSTAMP:20260424T160318
CREATED:20260206T174148Z
LAST-MODIFIED:20260206T180018Z
UID:10004169-1771660800-1771693200@brixtonsda.co.uk
SUMMARY:Loving with Integrity - (Do Not Steal) Pastor J Samuels
DESCRIPTION:
URL:https://brixtonsda.co.uk/event/loving-with-integrity-do-not-steal-pastor-j-samuels/
LOCATION:Brixton SDA Church\, Santley Street\, SW4 7QG
GEO:51.4614487;-0.1223025
X-APPLE-STRUCTURED-LOCATION;VALUE=URI;X-ADDRESS=Brixton SDA Church Santley Street SW4 7QG;X-APPLE-RADIUS=500;X-TITLE=Santley Street:geo:-0.1223025,51.4614487
END:VEVENT
BEGIN:VEVENT
DTSTART;TZID=UTC:20260224T190000
DTEND;TZID=UTC:20260224T200000
DTSTAMP:20260424T160318
CREATED:20260118T145703Z
LAST-MODIFIED:20260118T145703Z
UID:10004123-1771959600-1771963200@brixtonsda.co.uk
SUMMARY:Fitness Tuesdays
DESCRIPTION:This exercise session is FREE to attend
URL:https://brixtonsda.co.uk/event/fitness-tuesdays/2026-02-24/
LOCATION:Brixton SDA Church Hall\, Santley Street\, SW4 7QG
CATEGORIES:fitness
GEO:51.4614487;-0.1223025
X-APPLE-STRUCTURED-LOCATION;VALUE=URI;X-ADDRESS=Brixton SDA Church Hall Santley Street SW4 7QG;X-APPLE-RADIUS=500;X-TITLE=Santley Street:geo:-0.1223025,51.4614487
END:VEVENT
BEGIN:VEVENT
DTSTART;TZID=UTC:20260228T080000
DTEND;TZID=UTC:20260228T170000
DTSTAMP:20260424T160318
CREATED:20260206T180336Z
LAST-MODIFIED:20260206T180336Z
UID:10004170-1772265600-1772298000@brixtonsda.co.uk
SUMMARY:Loving with Truth - (Do Not Lie) Pastor A Cudjoe)
DESCRIPTION:
URL:https://brixtonsda.co.uk/event/loving-with-truth-do-not-lie-pastor-a-cudjoe/
LOCATION:Brixton SDA Church\, Santley Street\, SW4 7QG
GEO:51.4614487;-0.1223025
X-APPLE-STRUCTURED-LOCATION;VALUE=URI;X-ADDRESS=Brixton SDA Church Santley Street SW4 7QG;X-APPLE-RADIUS=500;X-TITLE=Santley Street:geo:-0.1223025,51.4614487
END:VEVENT
BEGIN:VEVENT
DTSTART;TZID=UTC:20260303T190000
DTEND;TZID=UTC:20260303T200000
DTSTAMP:20260424T160318
CREATED:20260118T145703Z
LAST-MODIFIED:20260118T145703Z
UID:10004124-1772564400-1772568000@brixtonsda.co.uk
SUMMARY:Fitness Tuesdays
DESCRIPTION:This exercise session is FREE to attend
URL:https://brixtonsda.co.uk/event/fitness-tuesdays/2026-03-03/
LOCATION:Brixton SDA Church Hall\, Santley Street\, SW4 7QG
CATEGORIES:fitness
GEO:51.4614487;-0.1223025
X-APPLE-STRUCTURED-LOCATION;VALUE=URI;X-ADDRESS=Brixton SDA Church Hall Santley Street SW4 7QG;X-APPLE-RADIUS=500;X-TITLE=Santley Street:geo:-0.1223025,51.4614487
END:VEVENT
BEGIN:VEVENT
DTSTART;TZID=UTC:20260307T080000
DTEND;TZID=UTC:20260307T170000
DTSTAMP:20260424T160318
CREATED:20260206T180516Z
LAST-MODIFIED:20260206T180636Z
UID:10004171-1772870400-1772902800@brixtonsda.co.uk
SUMMARY:Loving with Contentment - (Do Not Covet)
DESCRIPTION:
URL:https://brixtonsda.co.uk/event/loving-with-contentment-do-not-covet/
LOCATION:Brixton SDA Church\, Santley Street\, SW4 7QG
GEO:51.4614487;-0.1223025
X-APPLE-STRUCTURED-LOCATION;VALUE=URI;X-ADDRESS=Brixton SDA Church Santley Street SW4 7QG;X-APPLE-RADIUS=500;X-TITLE=Santley Street:geo:-0.1223025,51.4614487
END:VEVENT
BEGIN:VEVENT
DTSTART;TZID=UTC:20260310T190000
DTEND;TZID=UTC:20260310T200000
DTSTAMP:20260424T160318
CREATED:20260118T145703Z
LAST-MODIFIED:20260118T145703Z
UID:10004125-1773169200-1773172800@brixtonsda.co.uk
SUMMARY:Fitness Tuesdays
DESCRIPTION:This exercise session is FREE to attend
URL:https://brixtonsda.co.uk/event/fitness-tuesdays/2026-03-10/
LOCATION:Brixton SDA Church Hall\, Santley Street\, SW4 7QG
CATEGORIES:fitness
GEO:51.4614487;-0.1223025
X-APPLE-STRUCTURED-LOCATION;VALUE=URI;X-ADDRESS=Brixton SDA Church Hall Santley Street SW4 7QG;X-APPLE-RADIUS=500;X-TITLE=Santley Street:geo:-0.1223025,51.4614487
END:VEVENT
BEGIN:VEVENT
DTSTART;TZID=UTC:20260314T080000
DTEND;TZID=UTC:20260314T170000
DTSTAMP:20260424T160318
CREATED:20260206T180809Z
LAST-MODIFIED:20260206T180809Z
UID:10004172-1773475200-1773507600@brixtonsda.co.uk
SUMMARY:Women's Day of Prayer
DESCRIPTION:
URL:https://brixtonsda.co.uk/event/womens-day-of-prayer/
LOCATION:Brixton SDA Church\, Santley Street\, SW4 7QG
GEO:51.4614487;-0.1223025
X-APPLE-STRUCTURED-LOCATION;VALUE=URI;X-ADDRESS=Brixton SDA Church Santley Street SW4 7QG;X-APPLE-RADIUS=500;X-TITLE=Santley Street:geo:-0.1223025,51.4614487
END:VEVENT
BEGIN:VEVENT
DTSTART;TZID=UTC:20260317T190000
DTEND;TZID=UTC:20260317T200000
DTSTAMP:20260424T160318
CREATED:20260118T145703Z
LAST-MODIFIED:20260118T145703Z
UID:10004126-1773774000-1773777600@brixtonsda.co.uk
SUMMARY:Fitness Tuesdays
DESCRIPTION:This exercise session is FREE to attend
URL:https://brixtonsda.co.uk/event/fitness-tuesdays/2026-03-17/
LOCATION:Brixton SDA Church Hall\, Santley Street\, SW4 7QG
CATEGORIES:fitness
GEO:51.4614487;-0.1223025
X-APPLE-STRUCTURED-LOCATION;VALUE=URI;X-ADDRESS=Brixton SDA Church Hall Santley Street SW4 7QG;X-APPLE-RADIUS=500;X-TITLE=Santley Street:geo:-0.1223025,51.4614487
END:VEVENT
BEGIN:VEVENT
DTSTART;TZID=UTC:20260321T080000
DTEND;TZID=UTC:20260321T170000
DTSTAMP:20260424T160318
CREATED:20260206T181123Z
LAST-MODIFIED:20260206T181123Z
UID:10004173-1774080000-1774112400@brixtonsda.co.uk
SUMMARY:Global Youth Day
DESCRIPTION:
URL:https://brixtonsda.co.uk/event/global-youth-day-2/
END:VEVENT
BEGIN:VEVENT
DTSTART;TZID=UTC:20260324T190000
DTEND;TZID=UTC:20260324T200000
DTSTAMP:20260424T160318
CREATED:20260118T145703Z
LAST-MODIFIED:20260118T145703Z
UID:10004127-1774378800-1774382400@brixtonsda.co.uk
SUMMARY:Fitness Tuesdays
DESCRIPTION:This exercise session is FREE to attend
URL:https://brixtonsda.co.uk/event/fitness-tuesdays/2026-03-24/
LOCATION:Brixton SDA Church Hall\, Santley Street\, SW4 7QG
CATEGORIES:fitness
GEO:51.4614487;-0.1223025
X-APPLE-STRUCTURED-LOCATION;VALUE=URI;X-ADDRESS=Brixton SDA Church Hall Santley Street SW4 7QG;X-APPLE-RADIUS=500;X-TITLE=Santley Street:geo:-0.1223025,51.4614487
END:VEVENT
BEGIN:VEVENT
DTSTART;TZID=UTC:20260328T080000
DTEND;TZID=UTC:20260328T170000
DTSTAMP:20260424T160318
CREATED:20260206T181228Z
LAST-MODIFIED:20260206T181228Z
UID:10004174-1774684800-1774717200@brixtonsda.co.uk
SUMMARY:Communion
DESCRIPTION:
URL:https://brixtonsda.co.uk/event/communion-2/
LOCATION:Brixton SDA Church\, Santley Street\, SW4 7QG
GEO:51.4614487;-0.1223025
X-APPLE-STRUCTURED-LOCATION;VALUE=URI;X-ADDRESS=Brixton SDA Church Santley Street SW4 7QG;X-APPLE-RADIUS=500;X-TITLE=Santley Street:geo:-0.1223025,51.4614487
END:VEVENT
BEGIN:VEVENT
DTSTART;TZID=UTC:20260331T190000
DTEND;TZID=UTC:20260331T200000
DTSTAMP:20260424T160318
CREATED:20260118T145703Z
LAST-MODIFIED:20260118T145703Z
UID:10004128-1774983600-1774987200@brixtonsda.co.uk
SUMMARY:Fitness Tuesdays
DESCRIPTION:This exercise session is FREE to attend
URL:https://brixtonsda.co.uk/event/fitness-tuesdays/2026-03-31/
LOCATION:Brixton SDA Church Hall\, Santley Street\, SW4 7QG
CATEGORIES:fitness
GEO:51.4614487;-0.1223025
X-APPLE-STRUCTURED-LOCATION;VALUE=URI;X-ADDRESS=Brixton SDA Church Hall Santley Street SW4 7QG;X-APPLE-RADIUS=500;X-TITLE=Santley Street:geo:-0.1223025,51.4614487
END:VEVENT
BEGIN:VEVENT
DTSTART;TZID=UTC:20260407T190000
DTEND;TZID=UTC:20260407T200000
DTSTAMP:20260424T160318
CREATED:20260118T145703Z
LAST-MODIFIED:20260118T145703Z
UID:10004129-1775588400-1775592000@brixtonsda.co.uk
SUMMARY:Fitness Tuesdays
DESCRIPTION:This exercise session is FREE to attend
URL:https://brixtonsda.co.uk/event/fitness-tuesdays/2026-04-07/
LOCATION:Brixton SDA Church Hall\, Santley Street\, SW4 7QG
CATEGORIES:fitness
GEO:51.4614487;-0.1223025
X-APPLE-STRUCTURED-LOCATION;VALUE=URI;X-ADDRESS=Brixton SDA Church Hall Santley Street SW4 7QG;X-APPLE-RADIUS=500;X-TITLE=Santley Street:geo:-0.1223025,51.4614487
END:VEVENT
BEGIN:VEVENT
DTSTART;TZID=UTC:20260414T190000
DTEND;TZID=UTC:20260414T200000
DTSTAMP:20260424T160318
CREATED:20260118T145703Z
LAST-MODIFIED:20260118T145703Z
UID:10004130-1776193200-1776196800@brixtonsda.co.uk
SUMMARY:Fitness Tuesdays
DESCRIPTION:This exercise session is FREE to attend
URL:https://brixtonsda.co.uk/event/fitness-tuesdays/2026-04-14/
LOCATION:Brixton SDA Church Hall\, Santley Street\, SW4 7QG
CATEGORIES:fitness
GEO:51.4614487;-0.1223025
X-APPLE-STRUCTURED-LOCATION;VALUE=URI;X-ADDRESS=Brixton SDA Church Hall Santley Street SW4 7QG;X-APPLE-RADIUS=500;X-TITLE=Santley Street:geo:-0.1223025,51.4614487
END:VEVENT
BEGIN:VEVENT
DTSTART;TZID=UTC:20260421T190000
DTEND;TZID=UTC:20260421T200000
DTSTAMP:20260424T160318
CREATED:20260118T145703Z
LAST-MODIFIED:20260118T145703Z
UID:10004131-1776798000-1776801600@brixtonsda.co.uk
SUMMARY:Fitness Tuesdays
DESCRIPTION:This exercise session is FREE to attend
URL:https://brixtonsda.co.uk/event/fitness-tuesdays/2026-04-21/
LOCATION:Brixton SDA Church Hall\, Santley Street\, SW4 7QG
CATEGORIES:fitness
GEO:51.4614487;-0.1223025
X-APPLE-STRUCTURED-LOCATION;VALUE=URI;X-ADDRESS=Brixton SDA Church Hall Santley Street SW4 7QG;X-APPLE-RADIUS=500;X-TITLE=Santley Street:geo:-0.1223025,51.4614487
END:VEVENT
BEGIN:VEVENT
DTSTART;TZID=UTC:20260425T080000
DTEND;TZID=UTC:20260425T170000
DTSTAMP:20260424T160318
CREATED:20260423T183916Z
LAST-MODIFIED:20260423T183916Z
UID:10004175-1777104000-1777136400@brixtonsda.co.uk
SUMMARY:Baptism (am) Pastor Johnson
DESCRIPTION:BAPTISM
URL:https://brixtonsda.co.uk/event/baptism-am-pastor-johnson/
LOCATION:Brixton SDA Church\, Santley Street\, SW4 7QG
GEO:51.4614487;-0.1223025
X-APPLE-STRUCTURED-LOCATION;VALUE=URI;X-ADDRESS=Brixton SDA Church Santley Street SW4 7QG;X-APPLE-RADIUS=500;X-TITLE=Santley Street:geo:-0.1223025,51.4614487
END:VEVENT
BEGIN:VEVENT
DTSTART;TZID=UTC:20260428T190000
DTEND;TZID=UTC:20260428T200000
DTSTAMP:20260424T160318
CREATED:20260118T145703Z
LAST-MODIFIED:20260118T145703Z
UID:10004132-1777402800-1777406400@brixtonsda.co.uk
SUMMARY:Fitness Tuesdays
DESCRIPTION:This exercise session is FREE to attend
URL:https://brixtonsda.co.uk/event/fitness-tuesdays/2026-04-28/
LOCATION:Brixton SDA Church Hall\, Santley Street\, SW4 7QG
CATEGORIES:fitness
GEO:51.4614487;-0.1223025
X-APPLE-STRUCTURED-LOCATION;VALUE=URI;X-ADDRESS=Brixton SDA Church Hall Santley Street SW4 7QG;X-APPLE-RADIUS=500;X-TITLE=Santley Street:geo:-0.1223025,51.4614487
END:VEVENT
BEGIN:VEVENT
DTSTART;TZID=UTC:20260502T080000
DTEND;TZID=UTC:20260502T170000
DTSTAMP:20260424T160318
CREATED:20260423T184624Z
LAST-MODIFIED:20260423T184624Z
UID:10004176-1777708800-1777741200@brixtonsda.co.uk
SUMMARY:Prison Ministry
DESCRIPTION:Prison Ministry (Pastor Seth)
URL:https://brixtonsda.co.uk/event/prison-ministry/
LOCATION:Brixton SDA Church\, Santley Street\, SW4 7QG
GEO:51.4614487;-0.1223025
X-APPLE-STRUCTURED-LOCATION;VALUE=URI;X-ADDRESS=Brixton SDA Church Santley Street SW4 7QG;X-APPLE-RADIUS=500;X-TITLE=Santley Street:geo:-0.1223025,51.4614487
END:VEVENT
BEGIN:VEVENT
DTSTART;TZID=UTC:20260505T190000
DTEND;TZID=UTC:20260505T200000
DTSTAMP:20260424T160318
CREATED:20260118T145703Z
LAST-MODIFIED:20260118T145703Z
UID:10004133-1778007600-1778011200@brixtonsda.co.uk
SUMMARY:Fitness Tuesdays
DESCRIPTION:This exercise session is FREE to attend
URL:https://brixtonsda.co.uk/event/fitness-tuesdays/2026-05-05/
LOCATION:Brixton SDA Church Hall\, Santley Street\, SW4 7QG
CATEGORIES:fitness
GEO:51.4614487;-0.1223025
X-APPLE-STRUCTURED-LOCATION;VALUE=URI;X-ADDRESS=Brixton SDA Church Hall Santley Street SW4 7QG;X-APPLE-RADIUS=500;X-TITLE=Santley Street:geo:-0.1223025,51.4614487
END:VEVENT
BEGIN:VEVENT
DTSTART;TZID=UTC:20260509T080000
DTEND;TZID=UTC:20260509T170000
DTSTAMP:20260424T160318
CREATED:20260423T185110Z
LAST-MODIFIED:20260423T185110Z
UID:10004177-1778313600-1778346000@brixtonsda.co.uk
SUMMARY:(Sabbath Worship Service) Elder Layne Robinson
DESCRIPTION:(Sabbath Worship Service) Elder Layne Robinson
URL:https://brixtonsda.co.uk/event/sabbath-worship-service-elder-layne-robinson/
LOCATION:Brixton SDA Church\, Santley Street\, SW4 7QG
GEO:51.4614487;-0.1223025
X-APPLE-STRUCTURED-LOCATION;VALUE=URI;X-ADDRESS=Brixton SDA Church Santley Street SW4 7QG;X-APPLE-RADIUS=500;X-TITLE=Santley Street:geo:-0.1223025,51.4614487
END:VEVENT
BEGIN:VEVENT
DTSTART;TZID=UTC:20260512T190000
DTEND;TZID=UTC:20260512T200000
DTSTAMP:20260424T160318
CREATED:20260118T145703Z
LAST-MODIFIED:20260118T145703Z
UID:10004134-1778612400-1778616000@brixtonsda.co.uk
SUMMARY:Fitness Tuesdays
DESCRIPTION:This exercise session is FREE to attend
URL:https://brixtonsda.co.uk/event/fitness-tuesdays/2026-05-12/
LOCATION:Brixton SDA Church Hall\, Santley Street\, SW4 7QG
CATEGORIES:fitness
GEO:51.4614487;-0.1223025
X-APPLE-STRUCTURED-LOCATION;VALUE=URI;X-ADDRESS=Brixton SDA Church Hall Santley Street SW4 7QG;X-APPLE-RADIUS=500;X-TITLE=Santley Street:geo:-0.1223025,51.4614487
END:VEVENT
BEGIN:VEVENT
DTSTART;TZID=UTC:20260516T080000
DTEND;TZID=UTC:20260516T170000
DTSTAMP:20260424T160318
CREATED:20260423T185248Z
LAST-MODIFIED:20260423T185248Z
UID:10004178-1778918400-1778950800@brixtonsda.co.uk
SUMMARY:(Sabbath Worship Service) Pastor C. Johnson
DESCRIPTION:(Sabbath Worship Service) Pastor C. Johnson
URL:https://brixtonsda.co.uk/event/sabbath-worship-service-pastor-c-johnson/
LOCATION:Brixton SDA Church\, Santley Street\, SW4 7QG
GEO:51.4614487;-0.1223025
X-APPLE-STRUCTURED-LOCATION;VALUE=URI;X-ADDRESS=Brixton SDA Church Santley Street SW4 7QG;X-APPLE-RADIUS=500;X-TITLE=Santley Street:geo:-0.1223025,51.4614487
END:VEVENT
BEGIN:VEVENT
DTSTART;TZID=UTC:20260519T190000
DTEND;TZID=UTC:20260519T200000
DTSTAMP:20260424T160318
CREATED:20260118T145703Z
LAST-MODIFIED:20260118T145703Z
UID:10004135-1779217200-1779220800@brixtonsda.co.uk
SUMMARY:Fitness Tuesdays
DESCRIPTION:This exercise session is FREE to attend
URL:https://brixtonsda.co.uk/event/fitness-tuesdays/2026-05-19/
LOCATION:Brixton SDA Church Hall\, Santley Street\, SW4 7QG
CATEGORIES:fitness
GEO:51.4614487;-0.1223025
X-APPLE-STRUCTURED-LOCATION;VALUE=URI;X-ADDRESS=Brixton SDA Church Hall Santley Street SW4 7QG;X-APPLE-RADIUS=500;X-TITLE=Santley Street:geo:-0.1223025,51.4614487
END:VEVENT
BEGIN:VEVENT
DTSTART;TZID=UTC:20260523T080000
DTEND;TZID=UTC:20260523T170000
DTSTAMP:20260424T160318
CREATED:20260423T185412Z
LAST-MODIFIED:20260423T191737Z
UID:10004179-1779523200-1779555600@brixtonsda.co.uk
SUMMARY:Revival (Pastor N. David)
DESCRIPTION:Revival (Pastor N. David)
URL:https://brixtonsda.co.uk/event/revival-pastor-n-david/
LOCATION:Brixton SDA Church\, Santley Street\, SW4 7QG
GEO:51.4614487;-0.1223025
X-APPLE-STRUCTURED-LOCATION;VALUE=URI;X-ADDRESS=Brixton SDA Church Santley Street SW4 7QG;X-APPLE-RADIUS=500;X-TITLE=Santley Street:geo:-0.1223025,51.4614487
END:VEVENT
BEGIN:VEVENT
DTSTART;TZID=UTC:20260524T080000
DTEND;TZID=UTC:20260524T170000
DTSTAMP:20260424T160318
CREATED:20260423T185538Z
LAST-MODIFIED:20260423T185538Z
UID:10004180-1779609600-1779642000@brixtonsda.co.uk
SUMMARY:Revival (Pastor N. David)
DESCRIPTION:Revival (Pastor N. David)
URL:https://brixtonsda.co.uk/event/revival-pastor-n-david-2/
LOCATION:Brixton SDA Church\, Santley Street\, SW4 7QG
GEO:51.4614487;-0.1223025
X-APPLE-STRUCTURED-LOCATION;VALUE=URI;X-ADDRESS=Brixton SDA Church Santley Street SW4 7QG;X-APPLE-RADIUS=500;X-TITLE=Santley Street:geo:-0.1223025,51.4614487
END:VEVENT
END:VCALENDAR