BEGIN:VCALENDAR
VERSION:2.0
PRODID:-//Brixton Seventh-day Adventist Church - ECPv6.15.20//NONSGML v1.0//EN
CALSCALE:GREGORIAN
METHOD:PUBLISH
X-ORIGINAL-URL:https://brixtonsda.co.uk
X-WR-CALDESC:Events for Brixton Seventh-day Adventist Church
REFRESH-INTERVAL;VALUE=DURATION:PT1H
X-Robots-Tag:noindex
X-PUBLISHED-TTL:PT1H
BEGIN:VTIMEZONE
TZID:UTC
BEGIN:STANDARD
TZOFFSETFROM:+0000
TZOFFSETTO:+0000
TZNAME:UTC
DTSTART:20230101T000000
END:STANDARD
END:VTIMEZONE
BEGIN:VEVENT
DTSTART;TZID=UTC:20241125T113000
DTEND;TZID=UTC:20241202T130000
DTSTAMP:20260419T134340
CREATED:20230210T201645Z
LAST-MODIFIED:20230210T202444Z
UID:10003629-1732534200-1733144400@brixtonsda.co.uk
SUMMARY:Christian Home and Marriage Week
DESCRIPTION:Christian Home and Marriage Week takes place in February embracing two Sabbaths: \n\nChristian Marriage Day that emphasises Christian marriage\nChristian Home Day that emphasises parenting.\n\nChristian Home and Marriage Week begins on 11-18 February 2023
URL:https://brixtonsda.co.uk/event/christian-home-and-marriage-week/2024-11-25/
LOCATION:Brixton SDA Church\, Santley Street\, SW4 7QG
GEO:51.4614487;-0.1223025
X-APPLE-STRUCTURED-LOCATION;VALUE=URI;X-ADDRESS=Brixton SDA Church Santley Street SW4 7QG;X-APPLE-RADIUS=500;X-TITLE=Santley Street:geo:-0.1223025,51.4614487
END:VEVENT
BEGIN:VEVENT
DTSTART;TZID=UTC:20241126T113000
DTEND;TZID=UTC:20241203T130000
DTSTAMP:20260419T134340
CREATED:20230210T201645Z
LAST-MODIFIED:20230210T202444Z
UID:10003630-1732620600-1733230800@brixtonsda.co.uk
SUMMARY:Christian Home and Marriage Week
DESCRIPTION:Christian Home and Marriage Week takes place in February embracing two Sabbaths: \n\nChristian Marriage Day that emphasises Christian marriage\nChristian Home Day that emphasises parenting.\n\nChristian Home and Marriage Week begins on 11-18 February 2023
URL:https://brixtonsda.co.uk/event/christian-home-and-marriage-week/2024-11-26/
LOCATION:Brixton SDA Church\, Santley Street\, SW4 7QG
GEO:51.4614487;-0.1223025
X-APPLE-STRUCTURED-LOCATION;VALUE=URI;X-ADDRESS=Brixton SDA Church Santley Street SW4 7QG;X-APPLE-RADIUS=500;X-TITLE=Santley Street:geo:-0.1223025,51.4614487
END:VEVENT
BEGIN:VEVENT
DTSTART;TZID=UTC:20241127T113000
DTEND;TZID=UTC:20241204T130000
DTSTAMP:20260419T134340
CREATED:20230210T201645Z
LAST-MODIFIED:20230210T202444Z
UID:10003631-1732707000-1733317200@brixtonsda.co.uk
SUMMARY:Christian Home and Marriage Week
DESCRIPTION:Christian Home and Marriage Week takes place in February embracing two Sabbaths: \n\nChristian Marriage Day that emphasises Christian marriage\nChristian Home Day that emphasises parenting.\n\nChristian Home and Marriage Week begins on 11-18 February 2023
URL:https://brixtonsda.co.uk/event/christian-home-and-marriage-week/2024-11-27/
LOCATION:Brixton SDA Church\, Santley Street\, SW4 7QG
GEO:51.4614487;-0.1223025
X-APPLE-STRUCTURED-LOCATION;VALUE=URI;X-ADDRESS=Brixton SDA Church Santley Street SW4 7QG;X-APPLE-RADIUS=500;X-TITLE=Santley Street:geo:-0.1223025,51.4614487
END:VEVENT
BEGIN:VEVENT
DTSTART;TZID=UTC:20241128T113000
DTEND;TZID=UTC:20241205T130000
DTSTAMP:20260419T134340
CREATED:20230210T201645Z
LAST-MODIFIED:20230210T202444Z
UID:10003632-1732793400-1733403600@brixtonsda.co.uk
SUMMARY:Christian Home and Marriage Week
DESCRIPTION:Christian Home and Marriage Week takes place in February embracing two Sabbaths: \n\nChristian Marriage Day that emphasises Christian marriage\nChristian Home Day that emphasises parenting.\n\nChristian Home and Marriage Week begins on 11-18 February 2023
URL:https://brixtonsda.co.uk/event/christian-home-and-marriage-week/2024-11-28/
LOCATION:Brixton SDA Church\, Santley Street\, SW4 7QG
GEO:51.4614487;-0.1223025
X-APPLE-STRUCTURED-LOCATION;VALUE=URI;X-ADDRESS=Brixton SDA Church Santley Street SW4 7QG;X-APPLE-RADIUS=500;X-TITLE=Santley Street:geo:-0.1223025,51.4614487
END:VEVENT
BEGIN:VEVENT
DTSTART;TZID=UTC:20241129T113000
DTEND;TZID=UTC:20241206T130000
DTSTAMP:20260419T134340
CREATED:20230210T201645Z
LAST-MODIFIED:20230210T202444Z
UID:10003633-1732879800-1733490000@brixtonsda.co.uk
SUMMARY:Christian Home and Marriage Week
DESCRIPTION:Christian Home and Marriage Week takes place in February embracing two Sabbaths: \n\nChristian Marriage Day that emphasises Christian marriage\nChristian Home Day that emphasises parenting.\n\nChristian Home and Marriage Week begins on 11-18 February 2023
URL:https://brixtonsda.co.uk/event/christian-home-and-marriage-week/2024-11-29/
LOCATION:Brixton SDA Church\, Santley Street\, SW4 7QG
GEO:51.4614487;-0.1223025
X-APPLE-STRUCTURED-LOCATION;VALUE=URI;X-ADDRESS=Brixton SDA Church Santley Street SW4 7QG;X-APPLE-RADIUS=500;X-TITLE=Santley Street:geo:-0.1223025,51.4614487
END:VEVENT
BEGIN:VEVENT
DTSTART;TZID=UTC:20241130T113000
DTEND;TZID=UTC:20241130T130000
DTSTAMP:20260419T134340
CREATED:20200927T102441Z
LAST-MODIFIED:20200927T102441Z
UID:10002704-1732966200-1732971600@brixtonsda.co.uk
SUMMARY:Children's Day
DESCRIPTION:
URL:https://brixtonsda.co.uk/event/childrens-day/2024-11-30/
LOCATION:Brixton SDA Church\, Santley Street\, SW4 7QG
CATEGORIES:children
ORGANIZER;CN="Children's Ministries Department":MAILTO:childrensministries@brixtonsda.co.uk
GEO:51.4614487;-0.1223025
X-APPLE-STRUCTURED-LOCATION;VALUE=URI;X-ADDRESS=Brixton SDA Church Santley Street SW4 7QG;X-APPLE-RADIUS=500;X-TITLE=Santley Street:geo:-0.1223025,51.4614487
END:VEVENT
BEGIN:VEVENT
DTSTART;TZID=UTC:20241130T113000
DTEND;TZID=UTC:20241207T130000
DTSTAMP:20260419T134340
CREATED:20230210T201645Z
LAST-MODIFIED:20230210T202444Z
UID:10003634-1732966200-1733576400@brixtonsda.co.uk
SUMMARY:Christian Home and Marriage Week
DESCRIPTION:Christian Home and Marriage Week takes place in February embracing two Sabbaths: \n\nChristian Marriage Day that emphasises Christian marriage\nChristian Home Day that emphasises parenting.\n\nChristian Home and Marriage Week begins on 11-18 February 2023
URL:https://brixtonsda.co.uk/event/christian-home-and-marriage-week/2024-11-30/
LOCATION:Brixton SDA Church\, Santley Street\, SW4 7QG
GEO:51.4614487;-0.1223025
X-APPLE-STRUCTURED-LOCATION;VALUE=URI;X-ADDRESS=Brixton SDA Church Santley Street SW4 7QG;X-APPLE-RADIUS=500;X-TITLE=Santley Street:geo:-0.1223025,51.4614487
END:VEVENT
BEGIN:VEVENT
DTSTART;TZID=UTC:20241201T113000
DTEND;TZID=UTC:20241208T130000
DTSTAMP:20260419T134340
CREATED:20230210T201645Z
LAST-MODIFIED:20230210T202444Z
UID:10003635-1733052600-1733662800@brixtonsda.co.uk
SUMMARY:Christian Home and Marriage Week
DESCRIPTION:Christian Home and Marriage Week takes place in February embracing two Sabbaths: \n\nChristian Marriage Day that emphasises Christian marriage\nChristian Home Day that emphasises parenting.\n\nChristian Home and Marriage Week begins on 11-18 February 2023
URL:https://brixtonsda.co.uk/event/christian-home-and-marriage-week/2024-12-01/
LOCATION:Brixton SDA Church\, Santley Street\, SW4 7QG
GEO:51.4614487;-0.1223025
X-APPLE-STRUCTURED-LOCATION;VALUE=URI;X-ADDRESS=Brixton SDA Church Santley Street SW4 7QG;X-APPLE-RADIUS=500;X-TITLE=Santley Street:geo:-0.1223025,51.4614487
END:VEVENT
BEGIN:VEVENT
DTSTART;TZID=UTC:20241202T113000
DTEND;TZID=UTC:20241209T130000
DTSTAMP:20260419T134340
CREATED:20230210T201645Z
LAST-MODIFIED:20230210T202444Z
UID:10003636-1733139000-1733749200@brixtonsda.co.uk
SUMMARY:Christian Home and Marriage Week
DESCRIPTION:Christian Home and Marriage Week takes place in February embracing two Sabbaths: \n\nChristian Marriage Day that emphasises Christian marriage\nChristian Home Day that emphasises parenting.\n\nChristian Home and Marriage Week begins on 11-18 February 2023
URL:https://brixtonsda.co.uk/event/christian-home-and-marriage-week/2024-12-02/
LOCATION:Brixton SDA Church\, Santley Street\, SW4 7QG
GEO:51.4614487;-0.1223025
X-APPLE-STRUCTURED-LOCATION;VALUE=URI;X-ADDRESS=Brixton SDA Church Santley Street SW4 7QG;X-APPLE-RADIUS=500;X-TITLE=Santley Street:geo:-0.1223025,51.4614487
END:VEVENT
BEGIN:VEVENT
DTSTART;TZID=UTC:20241203T113000
DTEND;TZID=UTC:20241210T130000
DTSTAMP:20260419T134340
CREATED:20230210T201645Z
LAST-MODIFIED:20230210T202444Z
UID:10003637-1733225400-1733835600@brixtonsda.co.uk
SUMMARY:Christian Home and Marriage Week
DESCRIPTION:Christian Home and Marriage Week takes place in February embracing two Sabbaths: \n\nChristian Marriage Day that emphasises Christian marriage\nChristian Home Day that emphasises parenting.\n\nChristian Home and Marriage Week begins on 11-18 February 2023
URL:https://brixtonsda.co.uk/event/christian-home-and-marriage-week/2024-12-03/
LOCATION:Brixton SDA Church\, Santley Street\, SW4 7QG
GEO:51.4614487;-0.1223025
X-APPLE-STRUCTURED-LOCATION;VALUE=URI;X-ADDRESS=Brixton SDA Church Santley Street SW4 7QG;X-APPLE-RADIUS=500;X-TITLE=Santley Street:geo:-0.1223025,51.4614487
END:VEVENT
BEGIN:VEVENT
DTSTART;TZID=UTC:20241204T113000
DTEND;TZID=UTC:20241211T130000
DTSTAMP:20260419T134340
CREATED:20230210T201645Z
LAST-MODIFIED:20230210T202444Z
UID:10003638-1733311800-1733922000@brixtonsda.co.uk
SUMMARY:Christian Home and Marriage Week
DESCRIPTION:Christian Home and Marriage Week takes place in February embracing two Sabbaths: \n\nChristian Marriage Day that emphasises Christian marriage\nChristian Home Day that emphasises parenting.\n\nChristian Home and Marriage Week begins on 11-18 February 2023
URL:https://brixtonsda.co.uk/event/christian-home-and-marriage-week/2024-12-04/
LOCATION:Brixton SDA Church\, Santley Street\, SW4 7QG
GEO:51.4614487;-0.1223025
X-APPLE-STRUCTURED-LOCATION;VALUE=URI;X-ADDRESS=Brixton SDA Church Santley Street SW4 7QG;X-APPLE-RADIUS=500;X-TITLE=Santley Street:geo:-0.1223025,51.4614487
END:VEVENT
BEGIN:VEVENT
DTSTART;TZID=UTC:20241205T113000
DTEND;TZID=UTC:20241212T130000
DTSTAMP:20260419T134340
CREATED:20230210T201645Z
LAST-MODIFIED:20230210T202444Z
UID:10003639-1733398200-1734008400@brixtonsda.co.uk
SUMMARY:Christian Home and Marriage Week
DESCRIPTION:Christian Home and Marriage Week takes place in February embracing two Sabbaths: \n\nChristian Marriage Day that emphasises Christian marriage\nChristian Home Day that emphasises parenting.\n\nChristian Home and Marriage Week begins on 11-18 February 2023
URL:https://brixtonsda.co.uk/event/christian-home-and-marriage-week/2024-12-05/
LOCATION:Brixton SDA Church\, Santley Street\, SW4 7QG
GEO:51.4614487;-0.1223025
X-APPLE-STRUCTURED-LOCATION;VALUE=URI;X-ADDRESS=Brixton SDA Church Santley Street SW4 7QG;X-APPLE-RADIUS=500;X-TITLE=Santley Street:geo:-0.1223025,51.4614487
END:VEVENT
BEGIN:VEVENT
DTSTART;TZID=UTC:20241206T113000
DTEND;TZID=UTC:20241213T130000
DTSTAMP:20260419T134340
CREATED:20230210T201645Z
LAST-MODIFIED:20230210T202444Z
UID:10003640-1733484600-1734094800@brixtonsda.co.uk
SUMMARY:Christian Home and Marriage Week
DESCRIPTION:Christian Home and Marriage Week takes place in February embracing two Sabbaths: \n\nChristian Marriage Day that emphasises Christian marriage\nChristian Home Day that emphasises parenting.\n\nChristian Home and Marriage Week begins on 11-18 February 2023
URL:https://brixtonsda.co.uk/event/christian-home-and-marriage-week/2024-12-06/
LOCATION:Brixton SDA Church\, Santley Street\, SW4 7QG
GEO:51.4614487;-0.1223025
X-APPLE-STRUCTURED-LOCATION;VALUE=URI;X-ADDRESS=Brixton SDA Church Santley Street SW4 7QG;X-APPLE-RADIUS=500;X-TITLE=Santley Street:geo:-0.1223025,51.4614487
END:VEVENT
BEGIN:VEVENT
DTSTART;TZID=UTC:20241207T113000
DTEND;TZID=UTC:20241207T130000
DTSTAMP:20260419T134340
CREATED:20200927T102441Z
LAST-MODIFIED:20200927T102441Z
UID:10002705-1733571000-1733576400@brixtonsda.co.uk
SUMMARY:Children's Day
DESCRIPTION:
URL:https://brixtonsda.co.uk/event/childrens-day/2024-12-07/
LOCATION:Brixton SDA Church\, Santley Street\, SW4 7QG
CATEGORIES:children
ORGANIZER;CN="Children's Ministries Department":MAILTO:childrensministries@brixtonsda.co.uk
GEO:51.4614487;-0.1223025
X-APPLE-STRUCTURED-LOCATION;VALUE=URI;X-ADDRESS=Brixton SDA Church Santley Street SW4 7QG;X-APPLE-RADIUS=500;X-TITLE=Santley Street:geo:-0.1223025,51.4614487
END:VEVENT
BEGIN:VEVENT
DTSTART;TZID=UTC:20241207T113000
DTEND;TZID=UTC:20241214T130000
DTSTAMP:20260419T134340
CREATED:20230210T201645Z
LAST-MODIFIED:20230210T202444Z
UID:10003641-1733571000-1734181200@brixtonsda.co.uk
SUMMARY:Christian Home and Marriage Week
DESCRIPTION:Christian Home and Marriage Week takes place in February embracing two Sabbaths: \n\nChristian Marriage Day that emphasises Christian marriage\nChristian Home Day that emphasises parenting.\n\nChristian Home and Marriage Week begins on 11-18 February 2023
URL:https://brixtonsda.co.uk/event/christian-home-and-marriage-week/2024-12-07/
LOCATION:Brixton SDA Church\, Santley Street\, SW4 7QG
GEO:51.4614487;-0.1223025
X-APPLE-STRUCTURED-LOCATION;VALUE=URI;X-ADDRESS=Brixton SDA Church Santley Street SW4 7QG;X-APPLE-RADIUS=500;X-TITLE=Santley Street:geo:-0.1223025,51.4614487
END:VEVENT
BEGIN:VEVENT
DTSTART;TZID=UTC:20241208T113000
DTEND;TZID=UTC:20241215T130000
DTSTAMP:20260419T134340
CREATED:20230210T201645Z
LAST-MODIFIED:20230210T202444Z
UID:10003642-1733657400-1734267600@brixtonsda.co.uk
SUMMARY:Christian Home and Marriage Week
DESCRIPTION:Christian Home and Marriage Week takes place in February embracing two Sabbaths: \n\nChristian Marriage Day that emphasises Christian marriage\nChristian Home Day that emphasises parenting.\n\nChristian Home and Marriage Week begins on 11-18 February 2023
URL:https://brixtonsda.co.uk/event/christian-home-and-marriage-week/2024-12-08/
LOCATION:Brixton SDA Church\, Santley Street\, SW4 7QG
GEO:51.4614487;-0.1223025
X-APPLE-STRUCTURED-LOCATION;VALUE=URI;X-ADDRESS=Brixton SDA Church Santley Street SW4 7QG;X-APPLE-RADIUS=500;X-TITLE=Santley Street:geo:-0.1223025,51.4614487
END:VEVENT
BEGIN:VEVENT
DTSTART;TZID=UTC:20241209T113000
DTEND;TZID=UTC:20241216T130000
DTSTAMP:20260419T134340
CREATED:20230210T201645Z
LAST-MODIFIED:20230210T202444Z
UID:10003643-1733743800-1734354000@brixtonsda.co.uk
SUMMARY:Christian Home and Marriage Week
DESCRIPTION:Christian Home and Marriage Week takes place in February embracing two Sabbaths: \n\nChristian Marriage Day that emphasises Christian marriage\nChristian Home Day that emphasises parenting.\n\nChristian Home and Marriage Week begins on 11-18 February 2023
URL:https://brixtonsda.co.uk/event/christian-home-and-marriage-week/2024-12-09/
LOCATION:Brixton SDA Church\, Santley Street\, SW4 7QG
GEO:51.4614487;-0.1223025
X-APPLE-STRUCTURED-LOCATION;VALUE=URI;X-ADDRESS=Brixton SDA Church Santley Street SW4 7QG;X-APPLE-RADIUS=500;X-TITLE=Santley Street:geo:-0.1223025,51.4614487
END:VEVENT
BEGIN:VEVENT
DTSTART;TZID=UTC:20241210T113000
DTEND;TZID=UTC:20241217T130000
DTSTAMP:20260419T134340
CREATED:20230210T201645Z
LAST-MODIFIED:20230210T202444Z
UID:10003644-1733830200-1734440400@brixtonsda.co.uk
SUMMARY:Christian Home and Marriage Week
DESCRIPTION:Christian Home and Marriage Week takes place in February embracing two Sabbaths: \n\nChristian Marriage Day that emphasises Christian marriage\nChristian Home Day that emphasises parenting.\n\nChristian Home and Marriage Week begins on 11-18 February 2023
URL:https://brixtonsda.co.uk/event/christian-home-and-marriage-week/2024-12-10/
LOCATION:Brixton SDA Church\, Santley Street\, SW4 7QG
GEO:51.4614487;-0.1223025
X-APPLE-STRUCTURED-LOCATION;VALUE=URI;X-ADDRESS=Brixton SDA Church Santley Street SW4 7QG;X-APPLE-RADIUS=500;X-TITLE=Santley Street:geo:-0.1223025,51.4614487
END:VEVENT
BEGIN:VEVENT
DTSTART;TZID=UTC:20241211T113000
DTEND;TZID=UTC:20241218T130000
DTSTAMP:20260419T134340
CREATED:20230210T201645Z
LAST-MODIFIED:20230210T202444Z
UID:10003645-1733916600-1734526800@brixtonsda.co.uk
SUMMARY:Christian Home and Marriage Week
DESCRIPTION:Christian Home and Marriage Week takes place in February embracing two Sabbaths: \n\nChristian Marriage Day that emphasises Christian marriage\nChristian Home Day that emphasises parenting.\n\nChristian Home and Marriage Week begins on 11-18 February 2023
URL:https://brixtonsda.co.uk/event/christian-home-and-marriage-week/2024-12-11/
LOCATION:Brixton SDA Church\, Santley Street\, SW4 7QG
GEO:51.4614487;-0.1223025
X-APPLE-STRUCTURED-LOCATION;VALUE=URI;X-ADDRESS=Brixton SDA Church Santley Street SW4 7QG;X-APPLE-RADIUS=500;X-TITLE=Santley Street:geo:-0.1223025,51.4614487
END:VEVENT
BEGIN:VEVENT
DTSTART;TZID=UTC:20241212T113000
DTEND;TZID=UTC:20241219T130000
DTSTAMP:20260419T134340
CREATED:20230210T201645Z
LAST-MODIFIED:20230210T202444Z
UID:10003646-1734003000-1734613200@brixtonsda.co.uk
SUMMARY:Christian Home and Marriage Week
DESCRIPTION:Christian Home and Marriage Week takes place in February embracing two Sabbaths: \n\nChristian Marriage Day that emphasises Christian marriage\nChristian Home Day that emphasises parenting.\n\nChristian Home and Marriage Week begins on 11-18 February 2023
URL:https://brixtonsda.co.uk/event/christian-home-and-marriage-week/2024-12-12/
LOCATION:Brixton SDA Church\, Santley Street\, SW4 7QG
GEO:51.4614487;-0.1223025
X-APPLE-STRUCTURED-LOCATION;VALUE=URI;X-ADDRESS=Brixton SDA Church Santley Street SW4 7QG;X-APPLE-RADIUS=500;X-TITLE=Santley Street:geo:-0.1223025,51.4614487
END:VEVENT
BEGIN:VEVENT
DTSTART;TZID=UTC:20241213T113000
DTEND;TZID=UTC:20241220T130000
DTSTAMP:20260419T134340
CREATED:20230210T201645Z
LAST-MODIFIED:20230210T202444Z
UID:10003647-1734089400-1734699600@brixtonsda.co.uk
SUMMARY:Christian Home and Marriage Week
DESCRIPTION:Christian Home and Marriage Week takes place in February embracing two Sabbaths: \n\nChristian Marriage Day that emphasises Christian marriage\nChristian Home Day that emphasises parenting.\n\nChristian Home and Marriage Week begins on 11-18 February 2023
URL:https://brixtonsda.co.uk/event/christian-home-and-marriage-week/2024-12-13/
LOCATION:Brixton SDA Church\, Santley Street\, SW4 7QG
GEO:51.4614487;-0.1223025
X-APPLE-STRUCTURED-LOCATION;VALUE=URI;X-ADDRESS=Brixton SDA Church Santley Street SW4 7QG;X-APPLE-RADIUS=500;X-TITLE=Santley Street:geo:-0.1223025,51.4614487
END:VEVENT
BEGIN:VEVENT
DTSTART;TZID=UTC:20241214T113000
DTEND;TZID=UTC:20241214T130000
DTSTAMP:20260419T134340
CREATED:20200927T102441Z
LAST-MODIFIED:20200927T102441Z
UID:10002706-1734175800-1734181200@brixtonsda.co.uk
SUMMARY:Children's Day
DESCRIPTION:
URL:https://brixtonsda.co.uk/event/childrens-day/2024-12-14/
LOCATION:Brixton SDA Church\, Santley Street\, SW4 7QG
CATEGORIES:children
ORGANIZER;CN="Children's Ministries Department":MAILTO:childrensministries@brixtonsda.co.uk
GEO:51.4614487;-0.1223025
X-APPLE-STRUCTURED-LOCATION;VALUE=URI;X-ADDRESS=Brixton SDA Church Santley Street SW4 7QG;X-APPLE-RADIUS=500;X-TITLE=Santley Street:geo:-0.1223025,51.4614487
END:VEVENT
BEGIN:VEVENT
DTSTART;TZID=UTC:20241214T113000
DTEND;TZID=UTC:20241221T130000
DTSTAMP:20260419T134340
CREATED:20230210T201645Z
LAST-MODIFIED:20230210T202444Z
UID:10003648-1734175800-1734786000@brixtonsda.co.uk
SUMMARY:Christian Home and Marriage Week
DESCRIPTION:Christian Home and Marriage Week takes place in February embracing two Sabbaths: \n\nChristian Marriage Day that emphasises Christian marriage\nChristian Home Day that emphasises parenting.\n\nChristian Home and Marriage Week begins on 11-18 February 2023
URL:https://brixtonsda.co.uk/event/christian-home-and-marriage-week/2024-12-14/
LOCATION:Brixton SDA Church\, Santley Street\, SW4 7QG
GEO:51.4614487;-0.1223025
X-APPLE-STRUCTURED-LOCATION;VALUE=URI;X-ADDRESS=Brixton SDA Church Santley Street SW4 7QG;X-APPLE-RADIUS=500;X-TITLE=Santley Street:geo:-0.1223025,51.4614487
END:VEVENT
BEGIN:VEVENT
DTSTART;TZID=UTC:20241215T113000
DTEND;TZID=UTC:20241222T130000
DTSTAMP:20260419T134340
CREATED:20230210T201645Z
LAST-MODIFIED:20230210T202444Z
UID:10003649-1734262200-1734872400@brixtonsda.co.uk
SUMMARY:Christian Home and Marriage Week
DESCRIPTION:Christian Home and Marriage Week takes place in February embracing two Sabbaths: \n\nChristian Marriage Day that emphasises Christian marriage\nChristian Home Day that emphasises parenting.\n\nChristian Home and Marriage Week begins on 11-18 February 2023
URL:https://brixtonsda.co.uk/event/christian-home-and-marriage-week/2024-12-15/
LOCATION:Brixton SDA Church\, Santley Street\, SW4 7QG
GEO:51.4614487;-0.1223025
X-APPLE-STRUCTURED-LOCATION;VALUE=URI;X-ADDRESS=Brixton SDA Church Santley Street SW4 7QG;X-APPLE-RADIUS=500;X-TITLE=Santley Street:geo:-0.1223025,51.4614487
END:VEVENT
BEGIN:VEVENT
DTSTART;TZID=UTC:20241216T113000
DTEND;TZID=UTC:20241223T130000
DTSTAMP:20260419T134340
CREATED:20230210T201645Z
LAST-MODIFIED:20230210T202444Z
UID:10003650-1734348600-1734958800@brixtonsda.co.uk
SUMMARY:Christian Home and Marriage Week
DESCRIPTION:Christian Home and Marriage Week takes place in February embracing two Sabbaths: \n\nChristian Marriage Day that emphasises Christian marriage\nChristian Home Day that emphasises parenting.\n\nChristian Home and Marriage Week begins on 11-18 February 2023
URL:https://brixtonsda.co.uk/event/christian-home-and-marriage-week/2024-12-16/
LOCATION:Brixton SDA Church\, Santley Street\, SW4 7QG
GEO:51.4614487;-0.1223025
X-APPLE-STRUCTURED-LOCATION;VALUE=URI;X-ADDRESS=Brixton SDA Church Santley Street SW4 7QG;X-APPLE-RADIUS=500;X-TITLE=Santley Street:geo:-0.1223025,51.4614487
END:VEVENT
BEGIN:VEVENT
DTSTART;TZID=UTC:20241217T113000
DTEND;TZID=UTC:20241224T130000
DTSTAMP:20260419T134340
CREATED:20230210T201645Z
LAST-MODIFIED:20230210T202444Z
UID:10003651-1734435000-1735045200@brixtonsda.co.uk
SUMMARY:Christian Home and Marriage Week
DESCRIPTION:Christian Home and Marriage Week takes place in February embracing two Sabbaths: \n\nChristian Marriage Day that emphasises Christian marriage\nChristian Home Day that emphasises parenting.\n\nChristian Home and Marriage Week begins on 11-18 February 2023
URL:https://brixtonsda.co.uk/event/christian-home-and-marriage-week/2024-12-17/
LOCATION:Brixton SDA Church\, Santley Street\, SW4 7QG
GEO:51.4614487;-0.1223025
X-APPLE-STRUCTURED-LOCATION;VALUE=URI;X-ADDRESS=Brixton SDA Church Santley Street SW4 7QG;X-APPLE-RADIUS=500;X-TITLE=Santley Street:geo:-0.1223025,51.4614487
END:VEVENT
BEGIN:VEVENT
DTSTART;TZID=UTC:20241218T113000
DTEND;TZID=UTC:20241225T130000
DTSTAMP:20260419T134340
CREATED:20230210T201645Z
LAST-MODIFIED:20230210T202444Z
UID:10003652-1734521400-1735131600@brixtonsda.co.uk
SUMMARY:Christian Home and Marriage Week
DESCRIPTION:Christian Home and Marriage Week takes place in February embracing two Sabbaths: \n\nChristian Marriage Day that emphasises Christian marriage\nChristian Home Day that emphasises parenting.\n\nChristian Home and Marriage Week begins on 11-18 February 2023
URL:https://brixtonsda.co.uk/event/christian-home-and-marriage-week/2024-12-18/
LOCATION:Brixton SDA Church\, Santley Street\, SW4 7QG
GEO:51.4614487;-0.1223025
X-APPLE-STRUCTURED-LOCATION;VALUE=URI;X-ADDRESS=Brixton SDA Church Santley Street SW4 7QG;X-APPLE-RADIUS=500;X-TITLE=Santley Street:geo:-0.1223025,51.4614487
END:VEVENT
BEGIN:VEVENT
DTSTART;TZID=UTC:20241219T113000
DTEND;TZID=UTC:20241226T130000
DTSTAMP:20260419T134340
CREATED:20230210T201645Z
LAST-MODIFIED:20230210T202444Z
UID:10003653-1734607800-1735218000@brixtonsda.co.uk
SUMMARY:Christian Home and Marriage Week
DESCRIPTION:Christian Home and Marriage Week takes place in February embracing two Sabbaths: \n\nChristian Marriage Day that emphasises Christian marriage\nChristian Home Day that emphasises parenting.\n\nChristian Home and Marriage Week begins on 11-18 February 2023
URL:https://brixtonsda.co.uk/event/christian-home-and-marriage-week/2024-12-19/
LOCATION:Brixton SDA Church\, Santley Street\, SW4 7QG
GEO:51.4614487;-0.1223025
X-APPLE-STRUCTURED-LOCATION;VALUE=URI;X-ADDRESS=Brixton SDA Church Santley Street SW4 7QG;X-APPLE-RADIUS=500;X-TITLE=Santley Street:geo:-0.1223025,51.4614487
END:VEVENT
BEGIN:VEVENT
DTSTART;TZID=UTC:20241220T113000
DTEND;TZID=UTC:20241227T130000
DTSTAMP:20260419T134340
CREATED:20230210T201645Z
LAST-MODIFIED:20230210T202444Z
UID:10003654-1734694200-1735304400@brixtonsda.co.uk
SUMMARY:Christian Home and Marriage Week
DESCRIPTION:Christian Home and Marriage Week takes place in February embracing two Sabbaths: \n\nChristian Marriage Day that emphasises Christian marriage\nChristian Home Day that emphasises parenting.\n\nChristian Home and Marriage Week begins on 11-18 February 2023
URL:https://brixtonsda.co.uk/event/christian-home-and-marriage-week/2024-12-20/
LOCATION:Brixton SDA Church\, Santley Street\, SW4 7QG
GEO:51.4614487;-0.1223025
X-APPLE-STRUCTURED-LOCATION;VALUE=URI;X-ADDRESS=Brixton SDA Church Santley Street SW4 7QG;X-APPLE-RADIUS=500;X-TITLE=Santley Street:geo:-0.1223025,51.4614487
END:VEVENT
BEGIN:VEVENT
DTSTART;TZID=UTC:20241221T113000
DTEND;TZID=UTC:20241221T130000
DTSTAMP:20260419T134340
CREATED:20200927T102441Z
LAST-MODIFIED:20200927T102441Z
UID:10002707-1734780600-1734786000@brixtonsda.co.uk
SUMMARY:Children's Day
DESCRIPTION:
URL:https://brixtonsda.co.uk/event/childrens-day/2024-12-21/
LOCATION:Brixton SDA Church\, Santley Street\, SW4 7QG
CATEGORIES:children
ORGANIZER;CN="Children's Ministries Department":MAILTO:childrensministries@brixtonsda.co.uk
GEO:51.4614487;-0.1223025
X-APPLE-STRUCTURED-LOCATION;VALUE=URI;X-ADDRESS=Brixton SDA Church Santley Street SW4 7QG;X-APPLE-RADIUS=500;X-TITLE=Santley Street:geo:-0.1223025,51.4614487
END:VEVENT
END:VCALENDAR