BEGIN:VCALENDAR
VERSION:2.0
PRODID:-//Brixton Seventh-day Adventist Church - ECPv6.15.20//NONSGML v1.0//EN
CALSCALE:GREGORIAN
METHOD:PUBLISH
X-WR-CALNAME:Brixton Seventh-day Adventist Church
X-ORIGINAL-URL:https://brixtonsda.co.uk
X-WR-CALDESC:Events for Brixton Seventh-day Adventist Church
REFRESH-INTERVAL;VALUE=DURATION:PT1H
X-Robots-Tag:noindex
X-PUBLISHED-TTL:PT1H
BEGIN:VTIMEZONE
TZID:UTC
BEGIN:STANDARD
TZOFFSETFROM:+0000
TZOFFSETTO:+0000
TZNAME:UTC
DTSTART:20210101T000000
END:STANDARD
END:VTIMEZONE
BEGIN:VEVENT
DTSTART;TZID=UTC:20221231T113000
DTEND;TZID=UTC:20221231T130000
DTSTAMP:20260424T164940
CREATED:20200927T102441Z
LAST-MODIFIED:20200927T102441Z
UID:10002604-1672486200-1672491600@brixtonsda.co.uk
SUMMARY:Children's Day
DESCRIPTION:
URL:https://brixtonsda.co.uk/event/childrens-day/2022-12-31/
LOCATION:Brixton SDA Church\, Santley Street\, SW4 7QG
CATEGORIES:children
ORGANIZER;CN="Children's Ministries Department":MAILTO:childrensministries@brixtonsda.co.uk
GEO:51.4614487;-0.1223025
X-APPLE-STRUCTURED-LOCATION;VALUE=URI;X-ADDRESS=Brixton SDA Church Santley Street SW4 7QG;X-APPLE-RADIUS=500;X-TITLE=Santley Street:geo:-0.1223025,51.4614487
END:VEVENT
BEGIN:VEVENT
DTSTART;TZID=UTC:20221231T100000
DTEND;TZID=UTC:20221231T130000
DTSTAMP:20260424T164940
CREATED:20220103T234818Z
LAST-MODIFIED:20220311T113458Z
UID:10002869-1672480800-1672491600@brixtonsda.co.uk
SUMMARY:Worship Service Experience
DESCRIPTION:Join us each and every Saturday for our Worship Service Experience. \nDoors are open at 9:30 am or you can join us online on our YouTube Channel for our interactive Sabbath School discussion that starts at 10:00 am
URL:https://brixtonsda.co.uk/event/worship-service-experience/2022-12-31/
LOCATION:Brixton SDA Church\, Santley Street\, SW4 7QG
GEO:51.4614487;-0.1223025
X-APPLE-STRUCTURED-LOCATION;VALUE=URI;X-ADDRESS=Brixton SDA Church Santley Street SW4 7QG;X-APPLE-RADIUS=500;X-TITLE=Santley Street:geo:-0.1223025,51.4614487
END:VEVENT
BEGIN:VEVENT
DTSTART;TZID=UTC:20221224T113000
DTEND;TZID=UTC:20221224T130000
DTSTAMP:20260424T164940
CREATED:20200927T102441Z
LAST-MODIFIED:20200927T102441Z
UID:10002603-1671881400-1671886800@brixtonsda.co.uk
SUMMARY:Children's Day
DESCRIPTION:
URL:https://brixtonsda.co.uk/event/childrens-day/2022-12-24/
LOCATION:Brixton SDA Church\, Santley Street\, SW4 7QG
CATEGORIES:children
ORGANIZER;CN="Children's Ministries Department":MAILTO:childrensministries@brixtonsda.co.uk
GEO:51.4614487;-0.1223025
X-APPLE-STRUCTURED-LOCATION;VALUE=URI;X-ADDRESS=Brixton SDA Church Santley Street SW4 7QG;X-APPLE-RADIUS=500;X-TITLE=Santley Street:geo:-0.1223025,51.4614487
END:VEVENT
BEGIN:VEVENT
DTSTART;TZID=UTC:20221224T100000
DTEND;TZID=UTC:20221224T130000
DTSTAMP:20260424T164940
CREATED:20220103T234818Z
LAST-MODIFIED:20220311T113458Z
UID:10002868-1671876000-1671886800@brixtonsda.co.uk
SUMMARY:Worship Service Experience
DESCRIPTION:Join us each and every Saturday for our Worship Service Experience. \nDoors are open at 9:30 am or you can join us online on our YouTube Channel for our interactive Sabbath School discussion that starts at 10:00 am
URL:https://brixtonsda.co.uk/event/worship-service-experience/2022-12-24/
LOCATION:Brixton SDA Church\, Santley Street\, SW4 7QG
GEO:51.4614487;-0.1223025
X-APPLE-STRUCTURED-LOCATION;VALUE=URI;X-ADDRESS=Brixton SDA Church Santley Street SW4 7QG;X-APPLE-RADIUS=500;X-TITLE=Santley Street:geo:-0.1223025,51.4614487
END:VEVENT
BEGIN:VEVENT
DTSTART;TZID=UTC:20221217T113000
DTEND;TZID=UTC:20221217T130000
DTSTAMP:20260424T164940
CREATED:20200927T102441Z
LAST-MODIFIED:20200927T102441Z
UID:10002602-1671276600-1671282000@brixtonsda.co.uk
SUMMARY:Children's Day
DESCRIPTION:
URL:https://brixtonsda.co.uk/event/childrens-day/2022-12-17/
LOCATION:Brixton SDA Church\, Santley Street\, SW4 7QG
CATEGORIES:children
ORGANIZER;CN="Children's Ministries Department":MAILTO:childrensministries@brixtonsda.co.uk
GEO:51.4614487;-0.1223025
X-APPLE-STRUCTURED-LOCATION;VALUE=URI;X-ADDRESS=Brixton SDA Church Santley Street SW4 7QG;X-APPLE-RADIUS=500;X-TITLE=Santley Street:geo:-0.1223025,51.4614487
END:VEVENT
BEGIN:VEVENT
DTSTART;TZID=UTC:20221217T100000
DTEND;TZID=UTC:20221217T130000
DTSTAMP:20260424T164940
CREATED:20220103T234818Z
LAST-MODIFIED:20220311T113458Z
UID:10002867-1671271200-1671282000@brixtonsda.co.uk
SUMMARY:Worship Service Experience
DESCRIPTION:Join us each and every Saturday for our Worship Service Experience. \nDoors are open at 9:30 am or you can join us online on our YouTube Channel for our interactive Sabbath School discussion that starts at 10:00 am
URL:https://brixtonsda.co.uk/event/worship-service-experience/2022-12-17/
LOCATION:Brixton SDA Church\, Santley Street\, SW4 7QG
GEO:51.4614487;-0.1223025
X-APPLE-STRUCTURED-LOCATION;VALUE=URI;X-ADDRESS=Brixton SDA Church Santley Street SW4 7QG;X-APPLE-RADIUS=500;X-TITLE=Santley Street:geo:-0.1223025,51.4614487
END:VEVENT
BEGIN:VEVENT
DTSTART;TZID=UTC:20221210T113000
DTEND;TZID=UTC:20221210T130000
DTSTAMP:20260424T164940
CREATED:20200927T102441Z
LAST-MODIFIED:20200927T102441Z
UID:10002601-1670671800-1670677200@brixtonsda.co.uk
SUMMARY:Children's Day
DESCRIPTION:
URL:https://brixtonsda.co.uk/event/childrens-day/2022-12-10/
LOCATION:Brixton SDA Church\, Santley Street\, SW4 7QG
CATEGORIES:children
ORGANIZER;CN="Children's Ministries Department":MAILTO:childrensministries@brixtonsda.co.uk
GEO:51.4614487;-0.1223025
X-APPLE-STRUCTURED-LOCATION;VALUE=URI;X-ADDRESS=Brixton SDA Church Santley Street SW4 7QG;X-APPLE-RADIUS=500;X-TITLE=Santley Street:geo:-0.1223025,51.4614487
END:VEVENT
BEGIN:VEVENT
DTSTART;TZID=UTC:20221210T100000
DTEND;TZID=UTC:20221210T130000
DTSTAMP:20260424T164940
CREATED:20220103T234818Z
LAST-MODIFIED:20220311T113458Z
UID:10002866-1670666400-1670677200@brixtonsda.co.uk
SUMMARY:Worship Service Experience
DESCRIPTION:Join us each and every Saturday for our Worship Service Experience. \nDoors are open at 9:30 am or you can join us online on our YouTube Channel for our interactive Sabbath School discussion that starts at 10:00 am
URL:https://brixtonsda.co.uk/event/worship-service-experience/2022-12-10/
LOCATION:Brixton SDA Church\, Santley Street\, SW4 7QG
GEO:51.4614487;-0.1223025
X-APPLE-STRUCTURED-LOCATION;VALUE=URI;X-ADDRESS=Brixton SDA Church Santley Street SW4 7QG;X-APPLE-RADIUS=500;X-TITLE=Santley Street:geo:-0.1223025,51.4614487
END:VEVENT
BEGIN:VEVENT
DTSTART;TZID=UTC:20221203T113000
DTEND;TZID=UTC:20221203T130000
DTSTAMP:20260424T164940
CREATED:20200927T102441Z
LAST-MODIFIED:20200927T102441Z
UID:10002600-1670067000-1670072400@brixtonsda.co.uk
SUMMARY:Children's Day
DESCRIPTION:
URL:https://brixtonsda.co.uk/event/childrens-day/2022-12-03/
LOCATION:Brixton SDA Church\, Santley Street\, SW4 7QG
CATEGORIES:children
ORGANIZER;CN="Children's Ministries Department":MAILTO:childrensministries@brixtonsda.co.uk
GEO:51.4614487;-0.1223025
X-APPLE-STRUCTURED-LOCATION;VALUE=URI;X-ADDRESS=Brixton SDA Church Santley Street SW4 7QG;X-APPLE-RADIUS=500;X-TITLE=Santley Street:geo:-0.1223025,51.4614487
END:VEVENT
BEGIN:VEVENT
DTSTART;TZID=UTC:20221203T100000
DTEND;TZID=UTC:20221203T130000
DTSTAMP:20260424T164940
CREATED:20220103T234818Z
LAST-MODIFIED:20220311T113458Z
UID:10002865-1670061600-1670072400@brixtonsda.co.uk
SUMMARY:Worship Service Experience
DESCRIPTION:Join us each and every Saturday for our Worship Service Experience. \nDoors are open at 9:30 am or you can join us online on our YouTube Channel for our interactive Sabbath School discussion that starts at 10:00 am
URL:https://brixtonsda.co.uk/event/worship-service-experience/2022-12-03/
LOCATION:Brixton SDA Church\, Santley Street\, SW4 7QG
GEO:51.4614487;-0.1223025
X-APPLE-STRUCTURED-LOCATION;VALUE=URI;X-ADDRESS=Brixton SDA Church Santley Street SW4 7QG;X-APPLE-RADIUS=500;X-TITLE=Santley Street:geo:-0.1223025,51.4614487
END:VEVENT
BEGIN:VEVENT
DTSTART;TZID=UTC:20221126T113000
DTEND;TZID=UTC:20221126T130000
DTSTAMP:20260424T164940
CREATED:20200927T102441Z
LAST-MODIFIED:20200927T102441Z
UID:10002599-1669462200-1669467600@brixtonsda.co.uk
SUMMARY:Children's Day
DESCRIPTION:
URL:https://brixtonsda.co.uk/event/childrens-day/2022-11-26/
LOCATION:Brixton SDA Church\, Santley Street\, SW4 7QG
CATEGORIES:children
ORGANIZER;CN="Children's Ministries Department":MAILTO:childrensministries@brixtonsda.co.uk
GEO:51.4614487;-0.1223025
X-APPLE-STRUCTURED-LOCATION;VALUE=URI;X-ADDRESS=Brixton SDA Church Santley Street SW4 7QG;X-APPLE-RADIUS=500;X-TITLE=Santley Street:geo:-0.1223025,51.4614487
END:VEVENT
BEGIN:VEVENT
DTSTART;TZID=UTC:20221126T100000
DTEND;TZID=UTC:20221126T130000
DTSTAMP:20260424T164940
CREATED:20220103T234818Z
LAST-MODIFIED:20220311T113458Z
UID:10002864-1669456800-1669467600@brixtonsda.co.uk
SUMMARY:Worship Service Experience
DESCRIPTION:Join us each and every Saturday for our Worship Service Experience. \nDoors are open at 9:30 am or you can join us online on our YouTube Channel for our interactive Sabbath School discussion that starts at 10:00 am
URL:https://brixtonsda.co.uk/event/worship-service-experience/2022-11-26/
LOCATION:Brixton SDA Church\, Santley Street\, SW4 7QG
GEO:51.4614487;-0.1223025
X-APPLE-STRUCTURED-LOCATION;VALUE=URI;X-ADDRESS=Brixton SDA Church Santley Street SW4 7QG;X-APPLE-RADIUS=500;X-TITLE=Santley Street:geo:-0.1223025,51.4614487
END:VEVENT
BEGIN:VEVENT
DTSTART;TZID=UTC:20221119T113000
DTEND;TZID=UTC:20221119T130000
DTSTAMP:20260424T164940
CREATED:20200927T102441Z
LAST-MODIFIED:20200927T102441Z
UID:10002598-1668857400-1668862800@brixtonsda.co.uk
SUMMARY:Children's Day
DESCRIPTION:
URL:https://brixtonsda.co.uk/event/childrens-day/2022-11-19/
LOCATION:Brixton SDA Church\, Santley Street\, SW4 7QG
CATEGORIES:children
ORGANIZER;CN="Children's Ministries Department":MAILTO:childrensministries@brixtonsda.co.uk
GEO:51.4614487;-0.1223025
X-APPLE-STRUCTURED-LOCATION;VALUE=URI;X-ADDRESS=Brixton SDA Church Santley Street SW4 7QG;X-APPLE-RADIUS=500;X-TITLE=Santley Street:geo:-0.1223025,51.4614487
END:VEVENT
BEGIN:VEVENT
DTSTART;TZID=UTC:20221119T100000
DTEND;TZID=UTC:20221119T130000
DTSTAMP:20260424T164940
CREATED:20220103T234818Z
LAST-MODIFIED:20220311T113458Z
UID:10002863-1668852000-1668862800@brixtonsda.co.uk
SUMMARY:Worship Service Experience
DESCRIPTION:Join us each and every Saturday for our Worship Service Experience. \nDoors are open at 9:30 am or you can join us online on our YouTube Channel for our interactive Sabbath School discussion that starts at 10:00 am
URL:https://brixtonsda.co.uk/event/worship-service-experience/2022-11-19/
LOCATION:Brixton SDA Church\, Santley Street\, SW4 7QG
GEO:51.4614487;-0.1223025
X-APPLE-STRUCTURED-LOCATION;VALUE=URI;X-ADDRESS=Brixton SDA Church Santley Street SW4 7QG;X-APPLE-RADIUS=500;X-TITLE=Santley Street:geo:-0.1223025,51.4614487
END:VEVENT
BEGIN:VEVENT
DTSTART;TZID=UTC:20221112T113000
DTEND;TZID=UTC:20221112T130000
DTSTAMP:20260424T164940
CREATED:20200927T102441Z
LAST-MODIFIED:20200927T102441Z
UID:10002597-1668252600-1668258000@brixtonsda.co.uk
SUMMARY:Children's Day
DESCRIPTION:
URL:https://brixtonsda.co.uk/event/childrens-day/2022-11-12/
LOCATION:Brixton SDA Church\, Santley Street\, SW4 7QG
CATEGORIES:children
ORGANIZER;CN="Children's Ministries Department":MAILTO:childrensministries@brixtonsda.co.uk
GEO:51.4614487;-0.1223025
X-APPLE-STRUCTURED-LOCATION;VALUE=URI;X-ADDRESS=Brixton SDA Church Santley Street SW4 7QG;X-APPLE-RADIUS=500;X-TITLE=Santley Street:geo:-0.1223025,51.4614487
END:VEVENT
BEGIN:VEVENT
DTSTART;TZID=UTC:20221112T100000
DTEND;TZID=UTC:20221112T130000
DTSTAMP:20260424T164940
CREATED:20220103T234818Z
LAST-MODIFIED:20220311T113458Z
UID:10002862-1668247200-1668258000@brixtonsda.co.uk
SUMMARY:Worship Service Experience
DESCRIPTION:Join us each and every Saturday for our Worship Service Experience. \nDoors are open at 9:30 am or you can join us online on our YouTube Channel for our interactive Sabbath School discussion that starts at 10:00 am
URL:https://brixtonsda.co.uk/event/worship-service-experience/2022-11-12/
LOCATION:Brixton SDA Church\, Santley Street\, SW4 7QG
GEO:51.4614487;-0.1223025
X-APPLE-STRUCTURED-LOCATION;VALUE=URI;X-ADDRESS=Brixton SDA Church Santley Street SW4 7QG;X-APPLE-RADIUS=500;X-TITLE=Santley Street:geo:-0.1223025,51.4614487
END:VEVENT
BEGIN:VEVENT
DTSTART;TZID=UTC:20221105T113000
DTEND;TZID=UTC:20221105T130000
DTSTAMP:20260424T164940
CREATED:20200927T102441Z
LAST-MODIFIED:20200927T102441Z
UID:10002596-1667647800-1667653200@brixtonsda.co.uk
SUMMARY:Children's Day
DESCRIPTION:
URL:https://brixtonsda.co.uk/event/childrens-day/2022-11-05/
LOCATION:Brixton SDA Church\, Santley Street\, SW4 7QG
CATEGORIES:children
ORGANIZER;CN="Children's Ministries Department":MAILTO:childrensministries@brixtonsda.co.uk
GEO:51.4614487;-0.1223025
X-APPLE-STRUCTURED-LOCATION;VALUE=URI;X-ADDRESS=Brixton SDA Church Santley Street SW4 7QG;X-APPLE-RADIUS=500;X-TITLE=Santley Street:geo:-0.1223025,51.4614487
END:VEVENT
BEGIN:VEVENT
DTSTART;TZID=UTC:20221105T100000
DTEND;TZID=UTC:20221105T130000
DTSTAMP:20260424T164940
CREATED:20220103T234818Z
LAST-MODIFIED:20220311T113458Z
UID:10002861-1667642400-1667653200@brixtonsda.co.uk
SUMMARY:Worship Service Experience
DESCRIPTION:Join us each and every Saturday for our Worship Service Experience. \nDoors are open at 9:30 am or you can join us online on our YouTube Channel for our interactive Sabbath School discussion that starts at 10:00 am
URL:https://brixtonsda.co.uk/event/worship-service-experience/2022-11-05/
LOCATION:Brixton SDA Church\, Santley Street\, SW4 7QG
GEO:51.4614487;-0.1223025
X-APPLE-STRUCTURED-LOCATION;VALUE=URI;X-ADDRESS=Brixton SDA Church Santley Street SW4 7QG;X-APPLE-RADIUS=500;X-TITLE=Santley Street:geo:-0.1223025,51.4614487
END:VEVENT
BEGIN:VEVENT
DTSTART;TZID=UTC:20221029T113000
DTEND;TZID=UTC:20221029T130000
DTSTAMP:20260424T164940
CREATED:20200927T102441Z
LAST-MODIFIED:20200927T102441Z
UID:10002595-1667043000-1667048400@brixtonsda.co.uk
SUMMARY:Children's Day
DESCRIPTION:
URL:https://brixtonsda.co.uk/event/childrens-day/2022-10-29/
LOCATION:Brixton SDA Church\, Santley Street\, SW4 7QG
CATEGORIES:children
ORGANIZER;CN="Children's Ministries Department":MAILTO:childrensministries@brixtonsda.co.uk
GEO:51.4614487;-0.1223025
X-APPLE-STRUCTURED-LOCATION;VALUE=URI;X-ADDRESS=Brixton SDA Church Santley Street SW4 7QG;X-APPLE-RADIUS=500;X-TITLE=Santley Street:geo:-0.1223025,51.4614487
END:VEVENT
BEGIN:VEVENT
DTSTART;TZID=UTC:20221029T093000
DTEND;TZID=UTC:20221029T130000
DTSTAMP:20260424T164940
CREATED:20220705T073524Z
LAST-MODIFIED:20220705T073524Z
UID:10002955-1667035800-1667048400@brixtonsda.co.uk
SUMMARY:Music Day
DESCRIPTION:More information to come
URL:https://brixtonsda.co.uk/event/music-day/
LOCATION:Brixton SDA Church\, Santley Street\, SW4 7QG
GEO:51.4614487;-0.1223025
X-APPLE-STRUCTURED-LOCATION;VALUE=URI;X-ADDRESS=Brixton SDA Church Santley Street SW4 7QG;X-APPLE-RADIUS=500;X-TITLE=Santley Street:geo:-0.1223025,51.4614487
END:VEVENT
BEGIN:VEVENT
DTSTART;TZID=UTC:20221029T090000
DTEND;TZID=UTC:20221029T120000
DTSTAMP:20260424T164940
CREATED:20220103T234818Z
LAST-MODIFIED:20220311T113458Z
UID:10002860-1667034000-1667044800@brixtonsda.co.uk
SUMMARY:Worship Service Experience
DESCRIPTION:Join us each and every Saturday for our Worship Service Experience. \nDoors are open at 9:30 am or you can join us online on our YouTube Channel for our interactive Sabbath School discussion that starts at 10:00 am
URL:https://brixtonsda.co.uk/event/worship-service-experience/2022-10-29/
LOCATION:Brixton SDA Church\, Santley Street\, SW4 7QG
GEO:51.4614487;-0.1223025
X-APPLE-STRUCTURED-LOCATION;VALUE=URI;X-ADDRESS=Brixton SDA Church Santley Street SW4 7QG;X-APPLE-RADIUS=500;X-TITLE=Santley Street:geo:-0.1223025,51.4614487
END:VEVENT
BEGIN:VEVENT
DTSTART;TZID=UTC:20221022T113000
DTEND;TZID=UTC:20221022T130000
DTSTAMP:20260424T164940
CREATED:20200927T102441Z
LAST-MODIFIED:20200927T102441Z
UID:10002594-1666438200-1666443600@brixtonsda.co.uk
SUMMARY:Children's Day
DESCRIPTION:
URL:https://brixtonsda.co.uk/event/childrens-day/2022-10-22/
LOCATION:Brixton SDA Church\, Santley Street\, SW4 7QG
CATEGORIES:children
ORGANIZER;CN="Children's Ministries Department":MAILTO:childrensministries@brixtonsda.co.uk
GEO:51.4614487;-0.1223025
X-APPLE-STRUCTURED-LOCATION;VALUE=URI;X-ADDRESS=Brixton SDA Church Santley Street SW4 7QG;X-APPLE-RADIUS=500;X-TITLE=Santley Street:geo:-0.1223025,51.4614487
END:VEVENT
BEGIN:VEVENT
DTSTART;TZID=UTC:20221022T100000
DTEND;TZID=UTC:20221022T130000
DTSTAMP:20260424T164940
CREATED:20220910T072507Z
LAST-MODIFIED:20220910T072507Z
UID:10002962-1666432800-1666443600@brixtonsda.co.uk
SUMMARY:Children's Day
DESCRIPTION:
URL:https://brixtonsda.co.uk/event/childrens-day-2/
LOCATION:Brixton SDA Church\, Santley Street\, SW4 7QG
ORGANIZER;CN="Children's Ministries Department":MAILTO:childrensministries@brixtonsda.co.uk
GEO:51.4614487;-0.1223025
X-APPLE-STRUCTURED-LOCATION;VALUE=URI;X-ADDRESS=Brixton SDA Church Santley Street SW4 7QG;X-APPLE-RADIUS=500;X-TITLE=Santley Street:geo:-0.1223025,51.4614487
END:VEVENT
BEGIN:VEVENT
DTSTART;TZID=UTC:20221022T090000
DTEND;TZID=UTC:20221022T120000
DTSTAMP:20260424T164940
CREATED:20220103T234818Z
LAST-MODIFIED:20220311T113458Z
UID:10002859-1666429200-1666440000@brixtonsda.co.uk
SUMMARY:Worship Service Experience
DESCRIPTION:Join us each and every Saturday for our Worship Service Experience. \nDoors are open at 9:30 am or you can join us online on our YouTube Channel for our interactive Sabbath School discussion that starts at 10:00 am
URL:https://brixtonsda.co.uk/event/worship-service-experience/2022-10-22/
LOCATION:Brixton SDA Church\, Santley Street\, SW4 7QG
GEO:51.4614487;-0.1223025
X-APPLE-STRUCTURED-LOCATION;VALUE=URI;X-ADDRESS=Brixton SDA Church Santley Street SW4 7QG;X-APPLE-RADIUS=500;X-TITLE=Santley Street:geo:-0.1223025,51.4614487
END:VEVENT
BEGIN:VEVENT
DTSTART;TZID=UTC:20221015T113000
DTEND;TZID=UTC:20221015T130000
DTSTAMP:20260424T164940
CREATED:20200927T102441Z
LAST-MODIFIED:20200927T102441Z
UID:10002593-1665833400-1665838800@brixtonsda.co.uk
SUMMARY:Children's Day
DESCRIPTION:
URL:https://brixtonsda.co.uk/event/childrens-day/2022-10-15/
LOCATION:Brixton SDA Church\, Santley Street\, SW4 7QG
CATEGORIES:children
ORGANIZER;CN="Children's Ministries Department":MAILTO:childrensministries@brixtonsda.co.uk
GEO:51.4614487;-0.1223025
X-APPLE-STRUCTURED-LOCATION;VALUE=URI;X-ADDRESS=Brixton SDA Church Santley Street SW4 7QG;X-APPLE-RADIUS=500;X-TITLE=Santley Street:geo:-0.1223025,51.4614487
END:VEVENT
BEGIN:VEVENT
DTSTART;TZID=UTC:20221015T090000
DTEND;TZID=UTC:20221015T120000
DTSTAMP:20260424T164940
CREATED:20220103T234818Z
LAST-MODIFIED:20220311T113458Z
UID:10002858-1665824400-1665835200@brixtonsda.co.uk
SUMMARY:Worship Service Experience
DESCRIPTION:Join us each and every Saturday for our Worship Service Experience. \nDoors are open at 9:30 am or you can join us online on our YouTube Channel for our interactive Sabbath School discussion that starts at 10:00 am
URL:https://brixtonsda.co.uk/event/worship-service-experience/2022-10-15/
LOCATION:Brixton SDA Church\, Santley Street\, SW4 7QG
GEO:51.4614487;-0.1223025
X-APPLE-STRUCTURED-LOCATION;VALUE=URI;X-ADDRESS=Brixton SDA Church Santley Street SW4 7QG;X-APPLE-RADIUS=500;X-TITLE=Santley Street:geo:-0.1223025,51.4614487
END:VEVENT
BEGIN:VEVENT
DTSTART;TZID=UTC:20221008T113000
DTEND;TZID=UTC:20221008T130000
DTSTAMP:20260424T164940
CREATED:20200927T102441Z
LAST-MODIFIED:20200927T102441Z
UID:10002592-1665228600-1665234000@brixtonsda.co.uk
SUMMARY:Children's Day
DESCRIPTION:
URL:https://brixtonsda.co.uk/event/childrens-day/2022-10-08/
LOCATION:Brixton SDA Church\, Santley Street\, SW4 7QG
CATEGORIES:children
ORGANIZER;CN="Children's Ministries Department":MAILTO:childrensministries@brixtonsda.co.uk
GEO:51.4614487;-0.1223025
X-APPLE-STRUCTURED-LOCATION;VALUE=URI;X-ADDRESS=Brixton SDA Church Santley Street SW4 7QG;X-APPLE-RADIUS=500;X-TITLE=Santley Street:geo:-0.1223025,51.4614487
END:VEVENT
BEGIN:VEVENT
DTSTART;TZID=UTC:20221008T100000
DTEND;TZID=UTC:20221008T130000
DTSTAMP:20260424T164940
CREATED:20220910T072356Z
LAST-MODIFIED:20220910T072356Z
UID:10002961-1665223200-1665234000@brixtonsda.co.uk
SUMMARY:Community Services Day
DESCRIPTION:
URL:https://brixtonsda.co.uk/event/community-services-day-2/
LOCATION:Brixton SDA Church\, Santley Street\, SW4 7QG
ORGANIZER;CN="Community Services Department":MAILTO:communityservices@brixtonsda.co.uk
GEO:51.4614487;-0.1223025
X-APPLE-STRUCTURED-LOCATION;VALUE=URI;X-ADDRESS=Brixton SDA Church Santley Street SW4 7QG;X-APPLE-RADIUS=500;X-TITLE=Santley Street:geo:-0.1223025,51.4614487
END:VEVENT
BEGIN:VEVENT
DTSTART;TZID=UTC:20221008T090000
DTEND;TZID=UTC:20221008T120000
DTSTAMP:20260424T164940
CREATED:20220103T234818Z
LAST-MODIFIED:20220311T113458Z
UID:10002857-1665219600-1665230400@brixtonsda.co.uk
SUMMARY:Worship Service Experience
DESCRIPTION:Join us each and every Saturday for our Worship Service Experience. \nDoors are open at 9:30 am or you can join us online on our YouTube Channel for our interactive Sabbath School discussion that starts at 10:00 am
URL:https://brixtonsda.co.uk/event/worship-service-experience/2022-10-08/
LOCATION:Brixton SDA Church\, Santley Street\, SW4 7QG
GEO:51.4614487;-0.1223025
X-APPLE-STRUCTURED-LOCATION;VALUE=URI;X-ADDRESS=Brixton SDA Church Santley Street SW4 7QG;X-APPLE-RADIUS=500;X-TITLE=Santley Street:geo:-0.1223025,51.4614487
END:VEVENT
BEGIN:VEVENT
DTSTART;TZID=UTC:20221001T113000
DTEND;TZID=UTC:20221001T130000
DTSTAMP:20260424T164940
CREATED:20200927T102441Z
LAST-MODIFIED:20200927T102441Z
UID:10002591-1664623800-1664629200@brixtonsda.co.uk
SUMMARY:Children's Day
DESCRIPTION:
URL:https://brixtonsda.co.uk/event/childrens-day/2022-10-01/
LOCATION:Brixton SDA Church\, Santley Street\, SW4 7QG
CATEGORIES:children
ORGANIZER;CN="Children's Ministries Department":MAILTO:childrensministries@brixtonsda.co.uk
GEO:51.4614487;-0.1223025
X-APPLE-STRUCTURED-LOCATION;VALUE=URI;X-ADDRESS=Brixton SDA Church Santley Street SW4 7QG;X-APPLE-RADIUS=500;X-TITLE=Santley Street:geo:-0.1223025,51.4614487
END:VEVENT
END:VCALENDAR