BEGIN:VCALENDAR
VERSION:2.0
PRODID:-//Brixton Seventh-day Adventist Church - ECPv6.15.20//NONSGML v1.0//EN
CALSCALE:GREGORIAN
METHOD:PUBLISH
X-ORIGINAL-URL:https://brixtonsda.co.uk
X-WR-CALDESC:Events for Brixton Seventh-day Adventist Church
REFRESH-INTERVAL;VALUE=DURATION:PT1H
X-Robots-Tag:noindex
X-PUBLISHED-TTL:PT1H
BEGIN:VTIMEZONE
TZID:UTC
BEGIN:STANDARD
TZOFFSETFROM:+0000
TZOFFSETTO:+0000
TZNAME:UTC
DTSTART:20250101T000000
END:STANDARD
END:VTIMEZONE
BEGIN:VEVENT
DTSTART;TZID=UTC:20260303T190000
DTEND;TZID=UTC:20260303T200000
DTSTAMP:20260424T121751
CREATED:20260118T145703Z
LAST-MODIFIED:20260118T145703Z
UID:10004124-1772564400-1772568000@brixtonsda.co.uk
SUMMARY:Fitness Tuesdays
DESCRIPTION:This exercise session is FREE to attend
URL:https://brixtonsda.co.uk/event/fitness-tuesdays/2026-03-03/
LOCATION:Brixton SDA Church Hall\, Santley Street\, SW4 7QG
CATEGORIES:fitness
GEO:51.4614487;-0.1223025
X-APPLE-STRUCTURED-LOCATION;VALUE=URI;X-ADDRESS=Brixton SDA Church Hall Santley Street SW4 7QG;X-APPLE-RADIUS=500;X-TITLE=Santley Street:geo:-0.1223025,51.4614487
END:VEVENT
BEGIN:VEVENT
DTSTART;TZID=UTC:20260307T080000
DTEND;TZID=UTC:20260307T170000
DTSTAMP:20260424T121751
CREATED:20260206T180516Z
LAST-MODIFIED:20260206T180636Z
UID:10004171-1772870400-1772902800@brixtonsda.co.uk
SUMMARY:Loving with Contentment - (Do Not Covet)
DESCRIPTION:
URL:https://brixtonsda.co.uk/event/loving-with-contentment-do-not-covet/
LOCATION:Brixton SDA Church\, Santley Street\, SW4 7QG
GEO:51.4614487;-0.1223025
X-APPLE-STRUCTURED-LOCATION;VALUE=URI;X-ADDRESS=Brixton SDA Church Santley Street SW4 7QG;X-APPLE-RADIUS=500;X-TITLE=Santley Street:geo:-0.1223025,51.4614487
END:VEVENT
BEGIN:VEVENT
DTSTART;TZID=UTC:20260310T190000
DTEND;TZID=UTC:20260310T200000
DTSTAMP:20260424T121751
CREATED:20260118T145703Z
LAST-MODIFIED:20260118T145703Z
UID:10004125-1773169200-1773172800@brixtonsda.co.uk
SUMMARY:Fitness Tuesdays
DESCRIPTION:This exercise session is FREE to attend
URL:https://brixtonsda.co.uk/event/fitness-tuesdays/2026-03-10/
LOCATION:Brixton SDA Church Hall\, Santley Street\, SW4 7QG
CATEGORIES:fitness
GEO:51.4614487;-0.1223025
X-APPLE-STRUCTURED-LOCATION;VALUE=URI;X-ADDRESS=Brixton SDA Church Hall Santley Street SW4 7QG;X-APPLE-RADIUS=500;X-TITLE=Santley Street:geo:-0.1223025,51.4614487
END:VEVENT
BEGIN:VEVENT
DTSTART;TZID=UTC:20260314T080000
DTEND;TZID=UTC:20260314T170000
DTSTAMP:20260424T121751
CREATED:20260206T180809Z
LAST-MODIFIED:20260206T180809Z
UID:10004172-1773475200-1773507600@brixtonsda.co.uk
SUMMARY:Women's Day of Prayer
DESCRIPTION:
URL:https://brixtonsda.co.uk/event/womens-day-of-prayer/
LOCATION:Brixton SDA Church\, Santley Street\, SW4 7QG
GEO:51.4614487;-0.1223025
X-APPLE-STRUCTURED-LOCATION;VALUE=URI;X-ADDRESS=Brixton SDA Church Santley Street SW4 7QG;X-APPLE-RADIUS=500;X-TITLE=Santley Street:geo:-0.1223025,51.4614487
END:VEVENT
BEGIN:VEVENT
DTSTART;TZID=UTC:20260317T190000
DTEND;TZID=UTC:20260317T200000
DTSTAMP:20260424T121751
CREATED:20260118T145703Z
LAST-MODIFIED:20260118T145703Z
UID:10004126-1773774000-1773777600@brixtonsda.co.uk
SUMMARY:Fitness Tuesdays
DESCRIPTION:This exercise session is FREE to attend
URL:https://brixtonsda.co.uk/event/fitness-tuesdays/2026-03-17/
LOCATION:Brixton SDA Church Hall\, Santley Street\, SW4 7QG
CATEGORIES:fitness
GEO:51.4614487;-0.1223025
X-APPLE-STRUCTURED-LOCATION;VALUE=URI;X-ADDRESS=Brixton SDA Church Hall Santley Street SW4 7QG;X-APPLE-RADIUS=500;X-TITLE=Santley Street:geo:-0.1223025,51.4614487
END:VEVENT
BEGIN:VEVENT
DTSTART;TZID=UTC:20260321T080000
DTEND;TZID=UTC:20260321T170000
DTSTAMP:20260424T121751
CREATED:20260206T181123Z
LAST-MODIFIED:20260206T181123Z
UID:10004173-1774080000-1774112400@brixtonsda.co.uk
SUMMARY:Global Youth Day
DESCRIPTION:
URL:https://brixtonsda.co.uk/event/global-youth-day-2/
END:VEVENT
BEGIN:VEVENT
DTSTART;TZID=UTC:20260324T190000
DTEND;TZID=UTC:20260324T200000
DTSTAMP:20260424T121751
CREATED:20260118T145703Z
LAST-MODIFIED:20260118T145703Z
UID:10004127-1774378800-1774382400@brixtonsda.co.uk
SUMMARY:Fitness Tuesdays
DESCRIPTION:This exercise session is FREE to attend
URL:https://brixtonsda.co.uk/event/fitness-tuesdays/2026-03-24/
LOCATION:Brixton SDA Church Hall\, Santley Street\, SW4 7QG
CATEGORIES:fitness
GEO:51.4614487;-0.1223025
X-APPLE-STRUCTURED-LOCATION;VALUE=URI;X-ADDRESS=Brixton SDA Church Hall Santley Street SW4 7QG;X-APPLE-RADIUS=500;X-TITLE=Santley Street:geo:-0.1223025,51.4614487
END:VEVENT
BEGIN:VEVENT
DTSTART;TZID=UTC:20260328T080000
DTEND;TZID=UTC:20260328T170000
DTSTAMP:20260424T121751
CREATED:20260206T181228Z
LAST-MODIFIED:20260206T181228Z
UID:10004174-1774684800-1774717200@brixtonsda.co.uk
SUMMARY:Communion
DESCRIPTION:
URL:https://brixtonsda.co.uk/event/communion-2/
LOCATION:Brixton SDA Church\, Santley Street\, SW4 7QG
GEO:51.4614487;-0.1223025
X-APPLE-STRUCTURED-LOCATION;VALUE=URI;X-ADDRESS=Brixton SDA Church Santley Street SW4 7QG;X-APPLE-RADIUS=500;X-TITLE=Santley Street:geo:-0.1223025,51.4614487
END:VEVENT
BEGIN:VEVENT
DTSTART;TZID=UTC:20260331T190000
DTEND;TZID=UTC:20260331T200000
DTSTAMP:20260424T121751
CREATED:20260118T145703Z
LAST-MODIFIED:20260118T145703Z
UID:10004128-1774983600-1774987200@brixtonsda.co.uk
SUMMARY:Fitness Tuesdays
DESCRIPTION:This exercise session is FREE to attend
URL:https://brixtonsda.co.uk/event/fitness-tuesdays/2026-03-31/
LOCATION:Brixton SDA Church Hall\, Santley Street\, SW4 7QG
CATEGORIES:fitness
GEO:51.4614487;-0.1223025
X-APPLE-STRUCTURED-LOCATION;VALUE=URI;X-ADDRESS=Brixton SDA Church Hall Santley Street SW4 7QG;X-APPLE-RADIUS=500;X-TITLE=Santley Street:geo:-0.1223025,51.4614487
END:VEVENT
END:VCALENDAR