BEGIN:VCALENDAR
VERSION:2.0
PRODID:-//Brixton Seventh-day Adventist Church - ECPv6.15.20//NONSGML v1.0//EN
CALSCALE:GREGORIAN
METHOD:PUBLISH
X-WR-CALNAME:Brixton Seventh-day Adventist Church
X-ORIGINAL-URL:https://brixtonsda.co.uk
X-WR-CALDESC:Events for Brixton Seventh-day Adventist Church
REFRESH-INTERVAL;VALUE=DURATION:PT1H
X-Robots-Tag:noindex
X-PUBLISHED-TTL:PT1H
BEGIN:VTIMEZONE
TZID:UTC
BEGIN:STANDARD
TZOFFSETFROM:+0000
TZOFFSETTO:+0000
TZNAME:UTC
DTSTART:20240101T000000
END:STANDARD
END:VTIMEZONE
BEGIN:VEVENT
DTSTART;TZID=UTC:20250814T113000
DTEND;TZID=UTC:20250821T130000
DTSTAMP:20260424T163227
CREATED:20230210T201645Z
LAST-MODIFIED:20230210T202444Z
UID:10003891-1755171000-1755781200@brixtonsda.co.uk
SUMMARY:Christian Home and Marriage Week
DESCRIPTION:Christian Home and Marriage Week takes place in February embracing two Sabbaths: \n\nChristian Marriage Day that emphasises Christian marriage\nChristian Home Day that emphasises parenting.\n\nChristian Home and Marriage Week begins on 11-18 February 2023
URL:https://brixtonsda.co.uk/event/christian-home-and-marriage-week/2025-08-14/
LOCATION:Brixton SDA Church\, Santley Street\, SW4 7QG
GEO:51.4614487;-0.1223025
X-APPLE-STRUCTURED-LOCATION;VALUE=URI;X-ADDRESS=Brixton SDA Church Santley Street SW4 7QG;X-APPLE-RADIUS=500;X-TITLE=Santley Street:geo:-0.1223025,51.4614487
END:VEVENT
BEGIN:VEVENT
DTSTART;TZID=UTC:20250815T113000
DTEND;TZID=UTC:20250822T130000
DTSTAMP:20260424T163227
CREATED:20230210T201645Z
LAST-MODIFIED:20230210T202444Z
UID:10003892-1755257400-1755867600@brixtonsda.co.uk
SUMMARY:Christian Home and Marriage Week
DESCRIPTION:Christian Home and Marriage Week takes place in February embracing two Sabbaths: \n\nChristian Marriage Day that emphasises Christian marriage\nChristian Home Day that emphasises parenting.\n\nChristian Home and Marriage Week begins on 11-18 February 2023
URL:https://brixtonsda.co.uk/event/christian-home-and-marriage-week/2025-08-15/
LOCATION:Brixton SDA Church\, Santley Street\, SW4 7QG
GEO:51.4614487;-0.1223025
X-APPLE-STRUCTURED-LOCATION;VALUE=URI;X-ADDRESS=Brixton SDA Church Santley Street SW4 7QG;X-APPLE-RADIUS=500;X-TITLE=Santley Street:geo:-0.1223025,51.4614487
END:VEVENT
BEGIN:VEVENT
DTSTART;TZID=UTC:20250816T113000
DTEND;TZID=UTC:20250816T130000
DTSTAMP:20260424T163227
CREATED:20200927T102441Z
LAST-MODIFIED:20200927T102441Z
UID:10002741-1755343800-1755349200@brixtonsda.co.uk
SUMMARY:Children's Day
DESCRIPTION:
URL:https://brixtonsda.co.uk/event/childrens-day/2025-08-16/
LOCATION:Brixton SDA Church\, Santley Street\, SW4 7QG
CATEGORIES:children
ORGANIZER;CN="Children's Ministries Department":MAILTO:childrensministries@brixtonsda.co.uk
GEO:51.4614487;-0.1223025
X-APPLE-STRUCTURED-LOCATION;VALUE=URI;X-ADDRESS=Brixton SDA Church Santley Street SW4 7QG;X-APPLE-RADIUS=500;X-TITLE=Santley Street:geo:-0.1223025,51.4614487
END:VEVENT
BEGIN:VEVENT
DTSTART;TZID=UTC:20250816T113000
DTEND;TZID=UTC:20250823T130000
DTSTAMP:20260424T163227
CREATED:20230210T201645Z
LAST-MODIFIED:20230210T202444Z
UID:10003893-1755343800-1755954000@brixtonsda.co.uk
SUMMARY:Christian Home and Marriage Week
DESCRIPTION:Christian Home and Marriage Week takes place in February embracing two Sabbaths: \n\nChristian Marriage Day that emphasises Christian marriage\nChristian Home Day that emphasises parenting.\n\nChristian Home and Marriage Week begins on 11-18 February 2023
URL:https://brixtonsda.co.uk/event/christian-home-and-marriage-week/2025-08-16/
LOCATION:Brixton SDA Church\, Santley Street\, SW4 7QG
GEO:51.4614487;-0.1223025
X-APPLE-STRUCTURED-LOCATION;VALUE=URI;X-ADDRESS=Brixton SDA Church Santley Street SW4 7QG;X-APPLE-RADIUS=500;X-TITLE=Santley Street:geo:-0.1223025,51.4614487
END:VEVENT
BEGIN:VEVENT
DTSTART;TZID=UTC:20250817T113000
DTEND;TZID=UTC:20250824T130000
DTSTAMP:20260424T163227
CREATED:20230210T201645Z
LAST-MODIFIED:20230210T202444Z
UID:10003894-1755430200-1756040400@brixtonsda.co.uk
SUMMARY:Christian Home and Marriage Week
DESCRIPTION:Christian Home and Marriage Week takes place in February embracing two Sabbaths: \n\nChristian Marriage Day that emphasises Christian marriage\nChristian Home Day that emphasises parenting.\n\nChristian Home and Marriage Week begins on 11-18 February 2023
URL:https://brixtonsda.co.uk/event/christian-home-and-marriage-week/2025-08-17/
LOCATION:Brixton SDA Church\, Santley Street\, SW4 7QG
GEO:51.4614487;-0.1223025
X-APPLE-STRUCTURED-LOCATION;VALUE=URI;X-ADDRESS=Brixton SDA Church Santley Street SW4 7QG;X-APPLE-RADIUS=500;X-TITLE=Santley Street:geo:-0.1223025,51.4614487
END:VEVENT
BEGIN:VEVENT
DTSTART;TZID=UTC:20250818T113000
DTEND;TZID=UTC:20250825T130000
DTSTAMP:20260424T163227
CREATED:20230210T201645Z
LAST-MODIFIED:20230210T202444Z
UID:10003895-1755516600-1756126800@brixtonsda.co.uk
SUMMARY:Christian Home and Marriage Week
DESCRIPTION:Christian Home and Marriage Week takes place in February embracing two Sabbaths: \n\nChristian Marriage Day that emphasises Christian marriage\nChristian Home Day that emphasises parenting.\n\nChristian Home and Marriage Week begins on 11-18 February 2023
URL:https://brixtonsda.co.uk/event/christian-home-and-marriage-week/2025-08-18/
LOCATION:Brixton SDA Church\, Santley Street\, SW4 7QG
GEO:51.4614487;-0.1223025
X-APPLE-STRUCTURED-LOCATION;VALUE=URI;X-ADDRESS=Brixton SDA Church Santley Street SW4 7QG;X-APPLE-RADIUS=500;X-TITLE=Santley Street:geo:-0.1223025,51.4614487
END:VEVENT
BEGIN:VEVENT
DTSTART;TZID=UTC:20250819T113000
DTEND;TZID=UTC:20250826T130000
DTSTAMP:20260424T163227
CREATED:20230210T201645Z
LAST-MODIFIED:20230210T202444Z
UID:10003896-1755603000-1756213200@brixtonsda.co.uk
SUMMARY:Christian Home and Marriage Week
DESCRIPTION:Christian Home and Marriage Week takes place in February embracing two Sabbaths: \n\nChristian Marriage Day that emphasises Christian marriage\nChristian Home Day that emphasises parenting.\n\nChristian Home and Marriage Week begins on 11-18 February 2023
URL:https://brixtonsda.co.uk/event/christian-home-and-marriage-week/2025-08-19/
LOCATION:Brixton SDA Church\, Santley Street\, SW4 7QG
GEO:51.4614487;-0.1223025
X-APPLE-STRUCTURED-LOCATION;VALUE=URI;X-ADDRESS=Brixton SDA Church Santley Street SW4 7QG;X-APPLE-RADIUS=500;X-TITLE=Santley Street:geo:-0.1223025,51.4614487
END:VEVENT
BEGIN:VEVENT
DTSTART;TZID=UTC:20250820T113000
DTEND;TZID=UTC:20250827T130000
DTSTAMP:20260424T163227
CREATED:20230210T201645Z
LAST-MODIFIED:20230210T202444Z
UID:10003897-1755689400-1756299600@brixtonsda.co.uk
SUMMARY:Christian Home and Marriage Week
DESCRIPTION:Christian Home and Marriage Week takes place in February embracing two Sabbaths: \n\nChristian Marriage Day that emphasises Christian marriage\nChristian Home Day that emphasises parenting.\n\nChristian Home and Marriage Week begins on 11-18 February 2023
URL:https://brixtonsda.co.uk/event/christian-home-and-marriage-week/2025-08-20/
LOCATION:Brixton SDA Church\, Santley Street\, SW4 7QG
GEO:51.4614487;-0.1223025
X-APPLE-STRUCTURED-LOCATION;VALUE=URI;X-ADDRESS=Brixton SDA Church Santley Street SW4 7QG;X-APPLE-RADIUS=500;X-TITLE=Santley Street:geo:-0.1223025,51.4614487
END:VEVENT
BEGIN:VEVENT
DTSTART;TZID=UTC:20250821T113000
DTEND;TZID=UTC:20250828T130000
DTSTAMP:20260424T163227
CREATED:20230210T201645Z
LAST-MODIFIED:20230210T202444Z
UID:10003898-1755775800-1756386000@brixtonsda.co.uk
SUMMARY:Christian Home and Marriage Week
DESCRIPTION:Christian Home and Marriage Week takes place in February embracing two Sabbaths: \n\nChristian Marriage Day that emphasises Christian marriage\nChristian Home Day that emphasises parenting.\n\nChristian Home and Marriage Week begins on 11-18 February 2023
URL:https://brixtonsda.co.uk/event/christian-home-and-marriage-week/2025-08-21/
LOCATION:Brixton SDA Church\, Santley Street\, SW4 7QG
GEO:51.4614487;-0.1223025
X-APPLE-STRUCTURED-LOCATION;VALUE=URI;X-ADDRESS=Brixton SDA Church Santley Street SW4 7QG;X-APPLE-RADIUS=500;X-TITLE=Santley Street:geo:-0.1223025,51.4614487
END:VEVENT
BEGIN:VEVENT
DTSTART;TZID=UTC:20250822T113000
DTEND;TZID=UTC:20250829T130000
DTSTAMP:20260424T163227
CREATED:20230210T201645Z
LAST-MODIFIED:20230210T202444Z
UID:10003899-1755862200-1756472400@brixtonsda.co.uk
SUMMARY:Christian Home and Marriage Week
DESCRIPTION:Christian Home and Marriage Week takes place in February embracing two Sabbaths: \n\nChristian Marriage Day that emphasises Christian marriage\nChristian Home Day that emphasises parenting.\n\nChristian Home and Marriage Week begins on 11-18 February 2023
URL:https://brixtonsda.co.uk/event/christian-home-and-marriage-week/2025-08-22/
LOCATION:Brixton SDA Church\, Santley Street\, SW4 7QG
GEO:51.4614487;-0.1223025
X-APPLE-STRUCTURED-LOCATION;VALUE=URI;X-ADDRESS=Brixton SDA Church Santley Street SW4 7QG;X-APPLE-RADIUS=500;X-TITLE=Santley Street:geo:-0.1223025,51.4614487
END:VEVENT
BEGIN:VEVENT
DTSTART;TZID=UTC:20250823T113000
DTEND;TZID=UTC:20250823T130000
DTSTAMP:20260424T163227
CREATED:20200927T102441Z
LAST-MODIFIED:20200927T102441Z
UID:10002742-1755948600-1755954000@brixtonsda.co.uk
SUMMARY:Children's Day
DESCRIPTION:
URL:https://brixtonsda.co.uk/event/childrens-day/2025-08-23/
LOCATION:Brixton SDA Church\, Santley Street\, SW4 7QG
CATEGORIES:children
ORGANIZER;CN="Children's Ministries Department":MAILTO:childrensministries@brixtonsda.co.uk
GEO:51.4614487;-0.1223025
X-APPLE-STRUCTURED-LOCATION;VALUE=URI;X-ADDRESS=Brixton SDA Church Santley Street SW4 7QG;X-APPLE-RADIUS=500;X-TITLE=Santley Street:geo:-0.1223025,51.4614487
END:VEVENT
BEGIN:VEVENT
DTSTART;TZID=UTC:20250823T113000
DTEND;TZID=UTC:20250830T130000
DTSTAMP:20260424T163227
CREATED:20230210T201645Z
LAST-MODIFIED:20230210T202444Z
UID:10003900-1755948600-1756558800@brixtonsda.co.uk
SUMMARY:Christian Home and Marriage Week
DESCRIPTION:Christian Home and Marriage Week takes place in February embracing two Sabbaths: \n\nChristian Marriage Day that emphasises Christian marriage\nChristian Home Day that emphasises parenting.\n\nChristian Home and Marriage Week begins on 11-18 February 2023
URL:https://brixtonsda.co.uk/event/christian-home-and-marriage-week/2025-08-23/
LOCATION:Brixton SDA Church\, Santley Street\, SW4 7QG
GEO:51.4614487;-0.1223025
X-APPLE-STRUCTURED-LOCATION;VALUE=URI;X-ADDRESS=Brixton SDA Church Santley Street SW4 7QG;X-APPLE-RADIUS=500;X-TITLE=Santley Street:geo:-0.1223025,51.4614487
END:VEVENT
BEGIN:VEVENT
DTSTART;TZID=UTC:20250824T113000
DTEND;TZID=UTC:20250831T130000
DTSTAMP:20260424T163227
CREATED:20230210T201645Z
LAST-MODIFIED:20230210T202444Z
UID:10003901-1756035000-1756645200@brixtonsda.co.uk
SUMMARY:Christian Home and Marriage Week
DESCRIPTION:Christian Home and Marriage Week takes place in February embracing two Sabbaths: \n\nChristian Marriage Day that emphasises Christian marriage\nChristian Home Day that emphasises parenting.\n\nChristian Home and Marriage Week begins on 11-18 February 2023
URL:https://brixtonsda.co.uk/event/christian-home-and-marriage-week/2025-08-24/
LOCATION:Brixton SDA Church\, Santley Street\, SW4 7QG
GEO:51.4614487;-0.1223025
X-APPLE-STRUCTURED-LOCATION;VALUE=URI;X-ADDRESS=Brixton SDA Church Santley Street SW4 7QG;X-APPLE-RADIUS=500;X-TITLE=Santley Street:geo:-0.1223025,51.4614487
END:VEVENT
BEGIN:VEVENT
DTSTART;TZID=UTC:20250825T113000
DTEND;TZID=UTC:20250901T130000
DTSTAMP:20260424T163227
CREATED:20230210T201645Z
LAST-MODIFIED:20230210T202444Z
UID:10003902-1756121400-1756731600@brixtonsda.co.uk
SUMMARY:Christian Home and Marriage Week
DESCRIPTION:Christian Home and Marriage Week takes place in February embracing two Sabbaths: \n\nChristian Marriage Day that emphasises Christian marriage\nChristian Home Day that emphasises parenting.\n\nChristian Home and Marriage Week begins on 11-18 February 2023
URL:https://brixtonsda.co.uk/event/christian-home-and-marriage-week/2025-08-25/
LOCATION:Brixton SDA Church\, Santley Street\, SW4 7QG
GEO:51.4614487;-0.1223025
X-APPLE-STRUCTURED-LOCATION;VALUE=URI;X-ADDRESS=Brixton SDA Church Santley Street SW4 7QG;X-APPLE-RADIUS=500;X-TITLE=Santley Street:geo:-0.1223025,51.4614487
END:VEVENT
BEGIN:VEVENT
DTSTART;TZID=UTC:20250826T113000
DTEND;TZID=UTC:20250902T130000
DTSTAMP:20260424T163227
CREATED:20230210T201645Z
LAST-MODIFIED:20230210T202444Z
UID:10003903-1756207800-1756818000@brixtonsda.co.uk
SUMMARY:Christian Home and Marriage Week
DESCRIPTION:Christian Home and Marriage Week takes place in February embracing two Sabbaths: \n\nChristian Marriage Day that emphasises Christian marriage\nChristian Home Day that emphasises parenting.\n\nChristian Home and Marriage Week begins on 11-18 February 2023
URL:https://brixtonsda.co.uk/event/christian-home-and-marriage-week/2025-08-26/
LOCATION:Brixton SDA Church\, Santley Street\, SW4 7QG
GEO:51.4614487;-0.1223025
X-APPLE-STRUCTURED-LOCATION;VALUE=URI;X-ADDRESS=Brixton SDA Church Santley Street SW4 7QG;X-APPLE-RADIUS=500;X-TITLE=Santley Street:geo:-0.1223025,51.4614487
END:VEVENT
BEGIN:VEVENT
DTSTART;TZID=UTC:20250827T113000
DTEND;TZID=UTC:20250903T130000
DTSTAMP:20260424T163227
CREATED:20230210T201645Z
LAST-MODIFIED:20230210T202444Z
UID:10003904-1756294200-1756904400@brixtonsda.co.uk
SUMMARY:Christian Home and Marriage Week
DESCRIPTION:Christian Home and Marriage Week takes place in February embracing two Sabbaths: \n\nChristian Marriage Day that emphasises Christian marriage\nChristian Home Day that emphasises parenting.\n\nChristian Home and Marriage Week begins on 11-18 February 2023
URL:https://brixtonsda.co.uk/event/christian-home-and-marriage-week/2025-08-27/
LOCATION:Brixton SDA Church\, Santley Street\, SW4 7QG
GEO:51.4614487;-0.1223025
X-APPLE-STRUCTURED-LOCATION;VALUE=URI;X-ADDRESS=Brixton SDA Church Santley Street SW4 7QG;X-APPLE-RADIUS=500;X-TITLE=Santley Street:geo:-0.1223025,51.4614487
END:VEVENT
BEGIN:VEVENT
DTSTART;TZID=UTC:20250828T113000
DTEND;TZID=UTC:20250904T130000
DTSTAMP:20260424T163227
CREATED:20230210T201645Z
LAST-MODIFIED:20230210T202444Z
UID:10003905-1756380600-1756990800@brixtonsda.co.uk
SUMMARY:Christian Home and Marriage Week
DESCRIPTION:Christian Home and Marriage Week takes place in February embracing two Sabbaths: \n\nChristian Marriage Day that emphasises Christian marriage\nChristian Home Day that emphasises parenting.\n\nChristian Home and Marriage Week begins on 11-18 February 2023
URL:https://brixtonsda.co.uk/event/christian-home-and-marriage-week/2025-08-28/
LOCATION:Brixton SDA Church\, Santley Street\, SW4 7QG
GEO:51.4614487;-0.1223025
X-APPLE-STRUCTURED-LOCATION;VALUE=URI;X-ADDRESS=Brixton SDA Church Santley Street SW4 7QG;X-APPLE-RADIUS=500;X-TITLE=Santley Street:geo:-0.1223025,51.4614487
END:VEVENT
BEGIN:VEVENT
DTSTART;TZID=UTC:20250829T113000
DTEND;TZID=UTC:20250905T130000
DTSTAMP:20260424T163227
CREATED:20230210T201645Z
LAST-MODIFIED:20230210T202444Z
UID:10003906-1756467000-1757077200@brixtonsda.co.uk
SUMMARY:Christian Home and Marriage Week
DESCRIPTION:Christian Home and Marriage Week takes place in February embracing two Sabbaths: \n\nChristian Marriage Day that emphasises Christian marriage\nChristian Home Day that emphasises parenting.\n\nChristian Home and Marriage Week begins on 11-18 February 2023
URL:https://brixtonsda.co.uk/event/christian-home-and-marriage-week/2025-08-29/
LOCATION:Brixton SDA Church\, Santley Street\, SW4 7QG
GEO:51.4614487;-0.1223025
X-APPLE-STRUCTURED-LOCATION;VALUE=URI;X-ADDRESS=Brixton SDA Church Santley Street SW4 7QG;X-APPLE-RADIUS=500;X-TITLE=Santley Street:geo:-0.1223025,51.4614487
END:VEVENT
BEGIN:VEVENT
DTSTART;TZID=UTC:20250830T113000
DTEND;TZID=UTC:20250830T130000
DTSTAMP:20260424T163227
CREATED:20200927T102441Z
LAST-MODIFIED:20200927T102441Z
UID:10002743-1756553400-1756558800@brixtonsda.co.uk
SUMMARY:Children's Day
DESCRIPTION:
URL:https://brixtonsda.co.uk/event/childrens-day/2025-08-30/
LOCATION:Brixton SDA Church\, Santley Street\, SW4 7QG
CATEGORIES:children
ORGANIZER;CN="Children's Ministries Department":MAILTO:childrensministries@brixtonsda.co.uk
GEO:51.4614487;-0.1223025
X-APPLE-STRUCTURED-LOCATION;VALUE=URI;X-ADDRESS=Brixton SDA Church Santley Street SW4 7QG;X-APPLE-RADIUS=500;X-TITLE=Santley Street:geo:-0.1223025,51.4614487
END:VEVENT
BEGIN:VEVENT
DTSTART;TZID=UTC:20250830T113000
DTEND;TZID=UTC:20250906T130000
DTSTAMP:20260424T163227
CREATED:20230210T201645Z
LAST-MODIFIED:20230210T202444Z
UID:10003907-1756553400-1757163600@brixtonsda.co.uk
SUMMARY:Christian Home and Marriage Week
DESCRIPTION:Christian Home and Marriage Week takes place in February embracing two Sabbaths: \n\nChristian Marriage Day that emphasises Christian marriage\nChristian Home Day that emphasises parenting.\n\nChristian Home and Marriage Week begins on 11-18 February 2023
URL:https://brixtonsda.co.uk/event/christian-home-and-marriage-week/2025-08-30/
LOCATION:Brixton SDA Church\, Santley Street\, SW4 7QG
GEO:51.4614487;-0.1223025
X-APPLE-STRUCTURED-LOCATION;VALUE=URI;X-ADDRESS=Brixton SDA Church Santley Street SW4 7QG;X-APPLE-RADIUS=500;X-TITLE=Santley Street:geo:-0.1223025,51.4614487
END:VEVENT
BEGIN:VEVENT
DTSTART;TZID=UTC:20250831T113000
DTEND;TZID=UTC:20250907T130000
DTSTAMP:20260424T163227
CREATED:20230210T201645Z
LAST-MODIFIED:20230210T202444Z
UID:10003908-1756639800-1757250000@brixtonsda.co.uk
SUMMARY:Christian Home and Marriage Week
DESCRIPTION:Christian Home and Marriage Week takes place in February embracing two Sabbaths: \n\nChristian Marriage Day that emphasises Christian marriage\nChristian Home Day that emphasises parenting.\n\nChristian Home and Marriage Week begins on 11-18 February 2023
URL:https://brixtonsda.co.uk/event/christian-home-and-marriage-week/2025-08-31/
LOCATION:Brixton SDA Church\, Santley Street\, SW4 7QG
GEO:51.4614487;-0.1223025
X-APPLE-STRUCTURED-LOCATION;VALUE=URI;X-ADDRESS=Brixton SDA Church Santley Street SW4 7QG;X-APPLE-RADIUS=500;X-TITLE=Santley Street:geo:-0.1223025,51.4614487
END:VEVENT
BEGIN:VEVENT
DTSTART;TZID=UTC:20250901T113000
DTEND;TZID=UTC:20250908T130000
DTSTAMP:20260424T163227
CREATED:20230210T201645Z
LAST-MODIFIED:20230210T202444Z
UID:10003909-1756726200-1757336400@brixtonsda.co.uk
SUMMARY:Christian Home and Marriage Week
DESCRIPTION:Christian Home and Marriage Week takes place in February embracing two Sabbaths: \n\nChristian Marriage Day that emphasises Christian marriage\nChristian Home Day that emphasises parenting.\n\nChristian Home and Marriage Week begins on 11-18 February 2023
URL:https://brixtonsda.co.uk/event/christian-home-and-marriage-week/2025-09-01/
LOCATION:Brixton SDA Church\, Santley Street\, SW4 7QG
GEO:51.4614487;-0.1223025
X-APPLE-STRUCTURED-LOCATION;VALUE=URI;X-ADDRESS=Brixton SDA Church Santley Street SW4 7QG;X-APPLE-RADIUS=500;X-TITLE=Santley Street:geo:-0.1223025,51.4614487
END:VEVENT
BEGIN:VEVENT
DTSTART;TZID=UTC:20250902T113000
DTEND;TZID=UTC:20250909T130000
DTSTAMP:20260424T163227
CREATED:20230210T201645Z
LAST-MODIFIED:20230210T202444Z
UID:10003910-1756812600-1757422800@brixtonsda.co.uk
SUMMARY:Christian Home and Marriage Week
DESCRIPTION:Christian Home and Marriage Week takes place in February embracing two Sabbaths: \n\nChristian Marriage Day that emphasises Christian marriage\nChristian Home Day that emphasises parenting.\n\nChristian Home and Marriage Week begins on 11-18 February 2023
URL:https://brixtonsda.co.uk/event/christian-home-and-marriage-week/2025-09-02/
LOCATION:Brixton SDA Church\, Santley Street\, SW4 7QG
GEO:51.4614487;-0.1223025
X-APPLE-STRUCTURED-LOCATION;VALUE=URI;X-ADDRESS=Brixton SDA Church Santley Street SW4 7QG;X-APPLE-RADIUS=500;X-TITLE=Santley Street:geo:-0.1223025,51.4614487
END:VEVENT
BEGIN:VEVENT
DTSTART;TZID=UTC:20250903T113000
DTEND;TZID=UTC:20250910T130000
DTSTAMP:20260424T163227
CREATED:20230210T201645Z
LAST-MODIFIED:20230210T202444Z
UID:10003911-1756899000-1757509200@brixtonsda.co.uk
SUMMARY:Christian Home and Marriage Week
DESCRIPTION:Christian Home and Marriage Week takes place in February embracing two Sabbaths: \n\nChristian Marriage Day that emphasises Christian marriage\nChristian Home Day that emphasises parenting.\n\nChristian Home and Marriage Week begins on 11-18 February 2023
URL:https://brixtonsda.co.uk/event/christian-home-and-marriage-week/2025-09-03/
LOCATION:Brixton SDA Church\, Santley Street\, SW4 7QG
GEO:51.4614487;-0.1223025
X-APPLE-STRUCTURED-LOCATION;VALUE=URI;X-ADDRESS=Brixton SDA Church Santley Street SW4 7QG;X-APPLE-RADIUS=500;X-TITLE=Santley Street:geo:-0.1223025,51.4614487
END:VEVENT
BEGIN:VEVENT
DTSTART;TZID=UTC:20250904T113000
DTEND;TZID=UTC:20250911T130000
DTSTAMP:20260424T163227
CREATED:20230210T201645Z
LAST-MODIFIED:20230210T202444Z
UID:10003912-1756985400-1757595600@brixtonsda.co.uk
SUMMARY:Christian Home and Marriage Week
DESCRIPTION:Christian Home and Marriage Week takes place in February embracing two Sabbaths: \n\nChristian Marriage Day that emphasises Christian marriage\nChristian Home Day that emphasises parenting.\n\nChristian Home and Marriage Week begins on 11-18 February 2023
URL:https://brixtonsda.co.uk/event/christian-home-and-marriage-week/2025-09-04/
LOCATION:Brixton SDA Church\, Santley Street\, SW4 7QG
GEO:51.4614487;-0.1223025
X-APPLE-STRUCTURED-LOCATION;VALUE=URI;X-ADDRESS=Brixton SDA Church Santley Street SW4 7QG;X-APPLE-RADIUS=500;X-TITLE=Santley Street:geo:-0.1223025,51.4614487
END:VEVENT
BEGIN:VEVENT
DTSTART;TZID=UTC:20250905T113000
DTEND;TZID=UTC:20250912T130000
DTSTAMP:20260424T163227
CREATED:20230210T201645Z
LAST-MODIFIED:20230210T202444Z
UID:10003913-1757071800-1757682000@brixtonsda.co.uk
SUMMARY:Christian Home and Marriage Week
DESCRIPTION:Christian Home and Marriage Week takes place in February embracing two Sabbaths: \n\nChristian Marriage Day that emphasises Christian marriage\nChristian Home Day that emphasises parenting.\n\nChristian Home and Marriage Week begins on 11-18 February 2023
URL:https://brixtonsda.co.uk/event/christian-home-and-marriage-week/2025-09-05/
LOCATION:Brixton SDA Church\, Santley Street\, SW4 7QG
GEO:51.4614487;-0.1223025
X-APPLE-STRUCTURED-LOCATION;VALUE=URI;X-ADDRESS=Brixton SDA Church Santley Street SW4 7QG;X-APPLE-RADIUS=500;X-TITLE=Santley Street:geo:-0.1223025,51.4614487
END:VEVENT
BEGIN:VEVENT
DTSTART;TZID=UTC:20250906T113000
DTEND;TZID=UTC:20250906T130000
DTSTAMP:20260424T163227
CREATED:20200927T102441Z
LAST-MODIFIED:20200927T102441Z
UID:10002744-1757158200-1757163600@brixtonsda.co.uk
SUMMARY:Children's Day
DESCRIPTION:
URL:https://brixtonsda.co.uk/event/childrens-day/2025-09-06/
LOCATION:Brixton SDA Church\, Santley Street\, SW4 7QG
CATEGORIES:children
ORGANIZER;CN="Children's Ministries Department":MAILTO:childrensministries@brixtonsda.co.uk
GEO:51.4614487;-0.1223025
X-APPLE-STRUCTURED-LOCATION;VALUE=URI;X-ADDRESS=Brixton SDA Church Santley Street SW4 7QG;X-APPLE-RADIUS=500;X-TITLE=Santley Street:geo:-0.1223025,51.4614487
END:VEVENT
BEGIN:VEVENT
DTSTART;TZID=UTC:20250906T113000
DTEND;TZID=UTC:20250913T130000
DTSTAMP:20260424T163227
CREATED:20230210T201645Z
LAST-MODIFIED:20230210T202444Z
UID:10003914-1757158200-1757768400@brixtonsda.co.uk
SUMMARY:Christian Home and Marriage Week
DESCRIPTION:Christian Home and Marriage Week takes place in February embracing two Sabbaths: \n\nChristian Marriage Day that emphasises Christian marriage\nChristian Home Day that emphasises parenting.\n\nChristian Home and Marriage Week begins on 11-18 February 2023
URL:https://brixtonsda.co.uk/event/christian-home-and-marriage-week/2025-09-06/
LOCATION:Brixton SDA Church\, Santley Street\, SW4 7QG
GEO:51.4614487;-0.1223025
X-APPLE-STRUCTURED-LOCATION;VALUE=URI;X-ADDRESS=Brixton SDA Church Santley Street SW4 7QG;X-APPLE-RADIUS=500;X-TITLE=Santley Street:geo:-0.1223025,51.4614487
END:VEVENT
BEGIN:VEVENT
DTSTART;TZID=UTC:20250907T113000
DTEND;TZID=UTC:20250914T130000
DTSTAMP:20260424T163228
CREATED:20230210T201645Z
LAST-MODIFIED:20230210T202444Z
UID:10003915-1757244600-1757854800@brixtonsda.co.uk
SUMMARY:Christian Home and Marriage Week
DESCRIPTION:Christian Home and Marriage Week takes place in February embracing two Sabbaths: \n\nChristian Marriage Day that emphasises Christian marriage\nChristian Home Day that emphasises parenting.\n\nChristian Home and Marriage Week begins on 11-18 February 2023
URL:https://brixtonsda.co.uk/event/christian-home-and-marriage-week/2025-09-07/
LOCATION:Brixton SDA Church\, Santley Street\, SW4 7QG
GEO:51.4614487;-0.1223025
X-APPLE-STRUCTURED-LOCATION;VALUE=URI;X-ADDRESS=Brixton SDA Church Santley Street SW4 7QG;X-APPLE-RADIUS=500;X-TITLE=Santley Street:geo:-0.1223025,51.4614487
END:VEVENT
BEGIN:VEVENT
DTSTART;TZID=UTC:20250908T113000
DTEND;TZID=UTC:20250915T130000
DTSTAMP:20260424T163228
CREATED:20230210T201645Z
LAST-MODIFIED:20230210T202444Z
UID:10003916-1757331000-1757941200@brixtonsda.co.uk
SUMMARY:Christian Home and Marriage Week
DESCRIPTION:Christian Home and Marriage Week takes place in February embracing two Sabbaths: \n\nChristian Marriage Day that emphasises Christian marriage\nChristian Home Day that emphasises parenting.\n\nChristian Home and Marriage Week begins on 11-18 February 2023
URL:https://brixtonsda.co.uk/event/christian-home-and-marriage-week/2025-09-08/
LOCATION:Brixton SDA Church\, Santley Street\, SW4 7QG
GEO:51.4614487;-0.1223025
X-APPLE-STRUCTURED-LOCATION;VALUE=URI;X-ADDRESS=Brixton SDA Church Santley Street SW4 7QG;X-APPLE-RADIUS=500;X-TITLE=Santley Street:geo:-0.1223025,51.4614487
END:VEVENT
END:VCALENDAR