BEGIN:VCALENDAR
VERSION:2.0
PRODID:-//Brixton Seventh-day Adventist Church - ECPv6.15.20//NONSGML v1.0//EN
CALSCALE:GREGORIAN
METHOD:PUBLISH
X-WR-CALNAME:Brixton Seventh-day Adventist Church
X-ORIGINAL-URL:https://brixtonsda.co.uk
X-WR-CALDESC:Events for Brixton Seventh-day Adventist Church
REFRESH-INTERVAL;VALUE=DURATION:PT1H
X-Robots-Tag:noindex
X-PUBLISHED-TTL:PT1H
BEGIN:VTIMEZONE
TZID:UTC
BEGIN:STANDARD
TZOFFSETFROM:+0000
TZOFFSETTO:+0000
TZNAME:UTC
DTSTART:20230101T000000
END:STANDARD
END:VTIMEZONE
BEGIN:VEVENT
DTSTART;TZID=UTC:20241217T113000
DTEND;TZID=UTC:20241224T130000
DTSTAMP:20260419T151041
CREATED:20230210T201645Z
LAST-MODIFIED:20230210T202444Z
UID:10003651-1734435000-1735045200@brixtonsda.co.uk
SUMMARY:Christian Home and Marriage Week
DESCRIPTION:Christian Home and Marriage Week takes place in February embracing two Sabbaths: \n\nChristian Marriage Day that emphasises Christian marriage\nChristian Home Day that emphasises parenting.\n\nChristian Home and Marriage Week begins on 11-18 February 2023
URL:https://brixtonsda.co.uk/event/christian-home-and-marriage-week/2024-12-17/
LOCATION:Brixton SDA Church\, Santley Street\, SW4 7QG
GEO:51.4614487;-0.1223025
X-APPLE-STRUCTURED-LOCATION;VALUE=URI;X-ADDRESS=Brixton SDA Church Santley Street SW4 7QG;X-APPLE-RADIUS=500;X-TITLE=Santley Street:geo:-0.1223025,51.4614487
END:VEVENT
BEGIN:VEVENT
DTSTART;TZID=UTC:20241218T113000
DTEND;TZID=UTC:20241225T130000
DTSTAMP:20260419T151041
CREATED:20230210T201645Z
LAST-MODIFIED:20230210T202444Z
UID:10003652-1734521400-1735131600@brixtonsda.co.uk
SUMMARY:Christian Home and Marriage Week
DESCRIPTION:Christian Home and Marriage Week takes place in February embracing two Sabbaths: \n\nChristian Marriage Day that emphasises Christian marriage\nChristian Home Day that emphasises parenting.\n\nChristian Home and Marriage Week begins on 11-18 February 2023
URL:https://brixtonsda.co.uk/event/christian-home-and-marriage-week/2024-12-18/
LOCATION:Brixton SDA Church\, Santley Street\, SW4 7QG
GEO:51.4614487;-0.1223025
X-APPLE-STRUCTURED-LOCATION;VALUE=URI;X-ADDRESS=Brixton SDA Church Santley Street SW4 7QG;X-APPLE-RADIUS=500;X-TITLE=Santley Street:geo:-0.1223025,51.4614487
END:VEVENT
BEGIN:VEVENT
DTSTART;TZID=UTC:20241219T113000
DTEND;TZID=UTC:20241226T130000
DTSTAMP:20260419T151041
CREATED:20230210T201645Z
LAST-MODIFIED:20230210T202444Z
UID:10003653-1734607800-1735218000@brixtonsda.co.uk
SUMMARY:Christian Home and Marriage Week
DESCRIPTION:Christian Home and Marriage Week takes place in February embracing two Sabbaths: \n\nChristian Marriage Day that emphasises Christian marriage\nChristian Home Day that emphasises parenting.\n\nChristian Home and Marriage Week begins on 11-18 February 2023
URL:https://brixtonsda.co.uk/event/christian-home-and-marriage-week/2024-12-19/
LOCATION:Brixton SDA Church\, Santley Street\, SW4 7QG
GEO:51.4614487;-0.1223025
X-APPLE-STRUCTURED-LOCATION;VALUE=URI;X-ADDRESS=Brixton SDA Church Santley Street SW4 7QG;X-APPLE-RADIUS=500;X-TITLE=Santley Street:geo:-0.1223025,51.4614487
END:VEVENT
BEGIN:VEVENT
DTSTART;TZID=UTC:20241220T113000
DTEND;TZID=UTC:20241227T130000
DTSTAMP:20260419T151041
CREATED:20230210T201645Z
LAST-MODIFIED:20230210T202444Z
UID:10003654-1734694200-1735304400@brixtonsda.co.uk
SUMMARY:Christian Home and Marriage Week
DESCRIPTION:Christian Home and Marriage Week takes place in February embracing two Sabbaths: \n\nChristian Marriage Day that emphasises Christian marriage\nChristian Home Day that emphasises parenting.\n\nChristian Home and Marriage Week begins on 11-18 February 2023
URL:https://brixtonsda.co.uk/event/christian-home-and-marriage-week/2024-12-20/
LOCATION:Brixton SDA Church\, Santley Street\, SW4 7QG
GEO:51.4614487;-0.1223025
X-APPLE-STRUCTURED-LOCATION;VALUE=URI;X-ADDRESS=Brixton SDA Church Santley Street SW4 7QG;X-APPLE-RADIUS=500;X-TITLE=Santley Street:geo:-0.1223025,51.4614487
END:VEVENT
BEGIN:VEVENT
DTSTART;TZID=UTC:20241221T113000
DTEND;TZID=UTC:20241221T130000
DTSTAMP:20260419T151041
CREATED:20200927T102441Z
LAST-MODIFIED:20200927T102441Z
UID:10002707-1734780600-1734786000@brixtonsda.co.uk
SUMMARY:Children's Day
DESCRIPTION:
URL:https://brixtonsda.co.uk/event/childrens-day/2024-12-21/
LOCATION:Brixton SDA Church\, Santley Street\, SW4 7QG
CATEGORIES:children
ORGANIZER;CN="Children's Ministries Department":MAILTO:childrensministries@brixtonsda.co.uk
GEO:51.4614487;-0.1223025
X-APPLE-STRUCTURED-LOCATION;VALUE=URI;X-ADDRESS=Brixton SDA Church Santley Street SW4 7QG;X-APPLE-RADIUS=500;X-TITLE=Santley Street:geo:-0.1223025,51.4614487
END:VEVENT
BEGIN:VEVENT
DTSTART;TZID=UTC:20241221T113000
DTEND;TZID=UTC:20241228T130000
DTSTAMP:20260419T151041
CREATED:20230210T201645Z
LAST-MODIFIED:20230210T202444Z
UID:10003655-1734780600-1735390800@brixtonsda.co.uk
SUMMARY:Christian Home and Marriage Week
DESCRIPTION:Christian Home and Marriage Week takes place in February embracing two Sabbaths: \n\nChristian Marriage Day that emphasises Christian marriage\nChristian Home Day that emphasises parenting.\n\nChristian Home and Marriage Week begins on 11-18 February 2023
URL:https://brixtonsda.co.uk/event/christian-home-and-marriage-week/2024-12-21/
LOCATION:Brixton SDA Church\, Santley Street\, SW4 7QG
GEO:51.4614487;-0.1223025
X-APPLE-STRUCTURED-LOCATION;VALUE=URI;X-ADDRESS=Brixton SDA Church Santley Street SW4 7QG;X-APPLE-RADIUS=500;X-TITLE=Santley Street:geo:-0.1223025,51.4614487
END:VEVENT
BEGIN:VEVENT
DTSTART;TZID=UTC:20241222T113000
DTEND;TZID=UTC:20241229T130000
DTSTAMP:20260419T151041
CREATED:20230210T201645Z
LAST-MODIFIED:20230210T202444Z
UID:10003656-1734867000-1735477200@brixtonsda.co.uk
SUMMARY:Christian Home and Marriage Week
DESCRIPTION:Christian Home and Marriage Week takes place in February embracing two Sabbaths: \n\nChristian Marriage Day that emphasises Christian marriage\nChristian Home Day that emphasises parenting.\n\nChristian Home and Marriage Week begins on 11-18 February 2023
URL:https://brixtonsda.co.uk/event/christian-home-and-marriage-week/2024-12-22/
LOCATION:Brixton SDA Church\, Santley Street\, SW4 7QG
GEO:51.4614487;-0.1223025
X-APPLE-STRUCTURED-LOCATION;VALUE=URI;X-ADDRESS=Brixton SDA Church Santley Street SW4 7QG;X-APPLE-RADIUS=500;X-TITLE=Santley Street:geo:-0.1223025,51.4614487
END:VEVENT
BEGIN:VEVENT
DTSTART;TZID=UTC:20241223T113000
DTEND;TZID=UTC:20241230T130000
DTSTAMP:20260419T151041
CREATED:20230210T201645Z
LAST-MODIFIED:20230210T202444Z
UID:10003657-1734953400-1735563600@brixtonsda.co.uk
SUMMARY:Christian Home and Marriage Week
DESCRIPTION:Christian Home and Marriage Week takes place in February embracing two Sabbaths: \n\nChristian Marriage Day that emphasises Christian marriage\nChristian Home Day that emphasises parenting.\n\nChristian Home and Marriage Week begins on 11-18 February 2023
URL:https://brixtonsda.co.uk/event/christian-home-and-marriage-week/2024-12-23/
LOCATION:Brixton SDA Church\, Santley Street\, SW4 7QG
GEO:51.4614487;-0.1223025
X-APPLE-STRUCTURED-LOCATION;VALUE=URI;X-ADDRESS=Brixton SDA Church Santley Street SW4 7QG;X-APPLE-RADIUS=500;X-TITLE=Santley Street:geo:-0.1223025,51.4614487
END:VEVENT
BEGIN:VEVENT
DTSTART;TZID=UTC:20241224T113000
DTEND;TZID=UTC:20241231T130000
DTSTAMP:20260419T151041
CREATED:20230210T201645Z
LAST-MODIFIED:20230210T202444Z
UID:10003658-1735039800-1735650000@brixtonsda.co.uk
SUMMARY:Christian Home and Marriage Week
DESCRIPTION:Christian Home and Marriage Week takes place in February embracing two Sabbaths: \n\nChristian Marriage Day that emphasises Christian marriage\nChristian Home Day that emphasises parenting.\n\nChristian Home and Marriage Week begins on 11-18 February 2023
URL:https://brixtonsda.co.uk/event/christian-home-and-marriage-week/2024-12-24/
LOCATION:Brixton SDA Church\, Santley Street\, SW4 7QG
GEO:51.4614487;-0.1223025
X-APPLE-STRUCTURED-LOCATION;VALUE=URI;X-ADDRESS=Brixton SDA Church Santley Street SW4 7QG;X-APPLE-RADIUS=500;X-TITLE=Santley Street:geo:-0.1223025,51.4614487
END:VEVENT
BEGIN:VEVENT
DTSTART;TZID=UTC:20241225T113000
DTEND;TZID=UTC:20250101T130000
DTSTAMP:20260419T151041
CREATED:20230210T201645Z
LAST-MODIFIED:20230210T202444Z
UID:10003659-1735126200-1735736400@brixtonsda.co.uk
SUMMARY:Christian Home and Marriage Week
DESCRIPTION:Christian Home and Marriage Week takes place in February embracing two Sabbaths: \n\nChristian Marriage Day that emphasises Christian marriage\nChristian Home Day that emphasises parenting.\n\nChristian Home and Marriage Week begins on 11-18 February 2023
URL:https://brixtonsda.co.uk/event/christian-home-and-marriage-week/2024-12-25/
LOCATION:Brixton SDA Church\, Santley Street\, SW4 7QG
GEO:51.4614487;-0.1223025
X-APPLE-STRUCTURED-LOCATION;VALUE=URI;X-ADDRESS=Brixton SDA Church Santley Street SW4 7QG;X-APPLE-RADIUS=500;X-TITLE=Santley Street:geo:-0.1223025,51.4614487
END:VEVENT
BEGIN:VEVENT
DTSTART;TZID=UTC:20241226T113000
DTEND;TZID=UTC:20250102T130000
DTSTAMP:20260419T151041
CREATED:20230210T201645Z
LAST-MODIFIED:20230210T202444Z
UID:10003660-1735212600-1735822800@brixtonsda.co.uk
SUMMARY:Christian Home and Marriage Week
DESCRIPTION:Christian Home and Marriage Week takes place in February embracing two Sabbaths: \n\nChristian Marriage Day that emphasises Christian marriage\nChristian Home Day that emphasises parenting.\n\nChristian Home and Marriage Week begins on 11-18 February 2023
URL:https://brixtonsda.co.uk/event/christian-home-and-marriage-week/2024-12-26/
LOCATION:Brixton SDA Church\, Santley Street\, SW4 7QG
GEO:51.4614487;-0.1223025
X-APPLE-STRUCTURED-LOCATION;VALUE=URI;X-ADDRESS=Brixton SDA Church Santley Street SW4 7QG;X-APPLE-RADIUS=500;X-TITLE=Santley Street:geo:-0.1223025,51.4614487
END:VEVENT
BEGIN:VEVENT
DTSTART;TZID=UTC:20241227T113000
DTEND;TZID=UTC:20250103T130000
DTSTAMP:20260419T151041
CREATED:20230210T201645Z
LAST-MODIFIED:20230210T202444Z
UID:10003661-1735299000-1735909200@brixtonsda.co.uk
SUMMARY:Christian Home and Marriage Week
DESCRIPTION:Christian Home and Marriage Week takes place in February embracing two Sabbaths: \n\nChristian Marriage Day that emphasises Christian marriage\nChristian Home Day that emphasises parenting.\n\nChristian Home and Marriage Week begins on 11-18 February 2023
URL:https://brixtonsda.co.uk/event/christian-home-and-marriage-week/2024-12-27/
LOCATION:Brixton SDA Church\, Santley Street\, SW4 7QG
GEO:51.4614487;-0.1223025
X-APPLE-STRUCTURED-LOCATION;VALUE=URI;X-ADDRESS=Brixton SDA Church Santley Street SW4 7QG;X-APPLE-RADIUS=500;X-TITLE=Santley Street:geo:-0.1223025,51.4614487
END:VEVENT
BEGIN:VEVENT
DTSTART;TZID=UTC:20241228T113000
DTEND;TZID=UTC:20241228T130000
DTSTAMP:20260419T151041
CREATED:20200927T102441Z
LAST-MODIFIED:20200927T102441Z
UID:10002708-1735385400-1735390800@brixtonsda.co.uk
SUMMARY:Children's Day
DESCRIPTION:
URL:https://brixtonsda.co.uk/event/childrens-day/2024-12-28/
LOCATION:Brixton SDA Church\, Santley Street\, SW4 7QG
CATEGORIES:children
ORGANIZER;CN="Children's Ministries Department":MAILTO:childrensministries@brixtonsda.co.uk
GEO:51.4614487;-0.1223025
X-APPLE-STRUCTURED-LOCATION;VALUE=URI;X-ADDRESS=Brixton SDA Church Santley Street SW4 7QG;X-APPLE-RADIUS=500;X-TITLE=Santley Street:geo:-0.1223025,51.4614487
END:VEVENT
BEGIN:VEVENT
DTSTART;TZID=UTC:20241228T113000
DTEND;TZID=UTC:20250104T130000
DTSTAMP:20260419T151041
CREATED:20230210T201645Z
LAST-MODIFIED:20230210T202444Z
UID:10003662-1735385400-1735995600@brixtonsda.co.uk
SUMMARY:Christian Home and Marriage Week
DESCRIPTION:Christian Home and Marriage Week takes place in February embracing two Sabbaths: \n\nChristian Marriage Day that emphasises Christian marriage\nChristian Home Day that emphasises parenting.\n\nChristian Home and Marriage Week begins on 11-18 February 2023
URL:https://brixtonsda.co.uk/event/christian-home-and-marriage-week/2024-12-28/
LOCATION:Brixton SDA Church\, Santley Street\, SW4 7QG
GEO:51.4614487;-0.1223025
X-APPLE-STRUCTURED-LOCATION;VALUE=URI;X-ADDRESS=Brixton SDA Church Santley Street SW4 7QG;X-APPLE-RADIUS=500;X-TITLE=Santley Street:geo:-0.1223025,51.4614487
END:VEVENT
BEGIN:VEVENT
DTSTART;TZID=UTC:20241229T113000
DTEND;TZID=UTC:20250105T130000
DTSTAMP:20260419T151041
CREATED:20230210T201645Z
LAST-MODIFIED:20230210T202444Z
UID:10003663-1735471800-1736082000@brixtonsda.co.uk
SUMMARY:Christian Home and Marriage Week
DESCRIPTION:Christian Home and Marriage Week takes place in February embracing two Sabbaths: \n\nChristian Marriage Day that emphasises Christian marriage\nChristian Home Day that emphasises parenting.\n\nChristian Home and Marriage Week begins on 11-18 February 2023
URL:https://brixtonsda.co.uk/event/christian-home-and-marriage-week/2024-12-29/
LOCATION:Brixton SDA Church\, Santley Street\, SW4 7QG
GEO:51.4614487;-0.1223025
X-APPLE-STRUCTURED-LOCATION;VALUE=URI;X-ADDRESS=Brixton SDA Church Santley Street SW4 7QG;X-APPLE-RADIUS=500;X-TITLE=Santley Street:geo:-0.1223025,51.4614487
END:VEVENT
BEGIN:VEVENT
DTSTART;TZID=UTC:20241230T113000
DTEND;TZID=UTC:20250106T130000
DTSTAMP:20260419T151041
CREATED:20230210T201645Z
LAST-MODIFIED:20230210T202444Z
UID:10003664-1735558200-1736168400@brixtonsda.co.uk
SUMMARY:Christian Home and Marriage Week
DESCRIPTION:Christian Home and Marriage Week takes place in February embracing two Sabbaths: \n\nChristian Marriage Day that emphasises Christian marriage\nChristian Home Day that emphasises parenting.\n\nChristian Home and Marriage Week begins on 11-18 February 2023
URL:https://brixtonsda.co.uk/event/christian-home-and-marriage-week/2024-12-30/
LOCATION:Brixton SDA Church\, Santley Street\, SW4 7QG
GEO:51.4614487;-0.1223025
X-APPLE-STRUCTURED-LOCATION;VALUE=URI;X-ADDRESS=Brixton SDA Church Santley Street SW4 7QG;X-APPLE-RADIUS=500;X-TITLE=Santley Street:geo:-0.1223025,51.4614487
END:VEVENT
BEGIN:VEVENT
DTSTART;TZID=UTC:20241231T113000
DTEND;TZID=UTC:20250107T130000
DTSTAMP:20260419T151041
CREATED:20230210T201645Z
LAST-MODIFIED:20230210T202444Z
UID:10003665-1735644600-1736254800@brixtonsda.co.uk
SUMMARY:Christian Home and Marriage Week
DESCRIPTION:Christian Home and Marriage Week takes place in February embracing two Sabbaths: \n\nChristian Marriage Day that emphasises Christian marriage\nChristian Home Day that emphasises parenting.\n\nChristian Home and Marriage Week begins on 11-18 February 2023
URL:https://brixtonsda.co.uk/event/christian-home-and-marriage-week/2024-12-31/
LOCATION:Brixton SDA Church\, Santley Street\, SW4 7QG
GEO:51.4614487;-0.1223025
X-APPLE-STRUCTURED-LOCATION;VALUE=URI;X-ADDRESS=Brixton SDA Church Santley Street SW4 7QG;X-APPLE-RADIUS=500;X-TITLE=Santley Street:geo:-0.1223025,51.4614487
END:VEVENT
BEGIN:VEVENT
DTSTART;TZID=UTC:20250101T113000
DTEND;TZID=UTC:20250108T130000
DTSTAMP:20260419T151041
CREATED:20230210T201645Z
LAST-MODIFIED:20230210T202444Z
UID:10003666-1735731000-1736341200@brixtonsda.co.uk
SUMMARY:Christian Home and Marriage Week
DESCRIPTION:Christian Home and Marriage Week takes place in February embracing two Sabbaths: \n\nChristian Marriage Day that emphasises Christian marriage\nChristian Home Day that emphasises parenting.\n\nChristian Home and Marriage Week begins on 11-18 February 2023
URL:https://brixtonsda.co.uk/event/christian-home-and-marriage-week/2025-01-01/
LOCATION:Brixton SDA Church\, Santley Street\, SW4 7QG
GEO:51.4614487;-0.1223025
X-APPLE-STRUCTURED-LOCATION;VALUE=URI;X-ADDRESS=Brixton SDA Church Santley Street SW4 7QG;X-APPLE-RADIUS=500;X-TITLE=Santley Street:geo:-0.1223025,51.4614487
END:VEVENT
BEGIN:VEVENT
DTSTART;TZID=UTC:20250102T113000
DTEND;TZID=UTC:20250109T130000
DTSTAMP:20260419T151041
CREATED:20230210T201645Z
LAST-MODIFIED:20230210T202444Z
UID:10003667-1735817400-1736427600@brixtonsda.co.uk
SUMMARY:Christian Home and Marriage Week
DESCRIPTION:Christian Home and Marriage Week takes place in February embracing two Sabbaths: \n\nChristian Marriage Day that emphasises Christian marriage\nChristian Home Day that emphasises parenting.\n\nChristian Home and Marriage Week begins on 11-18 February 2023
URL:https://brixtonsda.co.uk/event/christian-home-and-marriage-week/2025-01-02/
LOCATION:Brixton SDA Church\, Santley Street\, SW4 7QG
GEO:51.4614487;-0.1223025
X-APPLE-STRUCTURED-LOCATION;VALUE=URI;X-ADDRESS=Brixton SDA Church Santley Street SW4 7QG;X-APPLE-RADIUS=500;X-TITLE=Santley Street:geo:-0.1223025,51.4614487
END:VEVENT
BEGIN:VEVENT
DTSTART;TZID=UTC:20250103T113000
DTEND;TZID=UTC:20250110T130000
DTSTAMP:20260419T151041
CREATED:20230210T201645Z
LAST-MODIFIED:20230210T202444Z
UID:10003668-1735903800-1736514000@brixtonsda.co.uk
SUMMARY:Christian Home and Marriage Week
DESCRIPTION:Christian Home and Marriage Week takes place in February embracing two Sabbaths: \n\nChristian Marriage Day that emphasises Christian marriage\nChristian Home Day that emphasises parenting.\n\nChristian Home and Marriage Week begins on 11-18 February 2023
URL:https://brixtonsda.co.uk/event/christian-home-and-marriage-week/2025-01-03/
LOCATION:Brixton SDA Church\, Santley Street\, SW4 7QG
GEO:51.4614487;-0.1223025
X-APPLE-STRUCTURED-LOCATION;VALUE=URI;X-ADDRESS=Brixton SDA Church Santley Street SW4 7QG;X-APPLE-RADIUS=500;X-TITLE=Santley Street:geo:-0.1223025,51.4614487
END:VEVENT
BEGIN:VEVENT
DTSTART;TZID=UTC:20250104T113000
DTEND;TZID=UTC:20250104T130000
DTSTAMP:20260419T151041
CREATED:20200927T102441Z
LAST-MODIFIED:20200927T102441Z
UID:10002709-1735990200-1735995600@brixtonsda.co.uk
SUMMARY:Children's Day
DESCRIPTION:
URL:https://brixtonsda.co.uk/event/childrens-day/2025-01-04/
LOCATION:Brixton SDA Church\, Santley Street\, SW4 7QG
CATEGORIES:children
ORGANIZER;CN="Children's Ministries Department":MAILTO:childrensministries@brixtonsda.co.uk
GEO:51.4614487;-0.1223025
X-APPLE-STRUCTURED-LOCATION;VALUE=URI;X-ADDRESS=Brixton SDA Church Santley Street SW4 7QG;X-APPLE-RADIUS=500;X-TITLE=Santley Street:geo:-0.1223025,51.4614487
END:VEVENT
BEGIN:VEVENT
DTSTART;TZID=UTC:20250104T113000
DTEND;TZID=UTC:20250111T130000
DTSTAMP:20260419T151041
CREATED:20230210T201645Z
LAST-MODIFIED:20230210T202444Z
UID:10003669-1735990200-1736600400@brixtonsda.co.uk
SUMMARY:Christian Home and Marriage Week
DESCRIPTION:Christian Home and Marriage Week takes place in February embracing two Sabbaths: \n\nChristian Marriage Day that emphasises Christian marriage\nChristian Home Day that emphasises parenting.\n\nChristian Home and Marriage Week begins on 11-18 February 2023
URL:https://brixtonsda.co.uk/event/christian-home-and-marriage-week/2025-01-04/
LOCATION:Brixton SDA Church\, Santley Street\, SW4 7QG
GEO:51.4614487;-0.1223025
X-APPLE-STRUCTURED-LOCATION;VALUE=URI;X-ADDRESS=Brixton SDA Church Santley Street SW4 7QG;X-APPLE-RADIUS=500;X-TITLE=Santley Street:geo:-0.1223025,51.4614487
END:VEVENT
BEGIN:VEVENT
DTSTART;TZID=UTC:20250105T113000
DTEND;TZID=UTC:20250112T130000
DTSTAMP:20260419T151041
CREATED:20230210T201645Z
LAST-MODIFIED:20230210T202444Z
UID:10003670-1736076600-1736686800@brixtonsda.co.uk
SUMMARY:Christian Home and Marriage Week
DESCRIPTION:Christian Home and Marriage Week takes place in February embracing two Sabbaths: \n\nChristian Marriage Day that emphasises Christian marriage\nChristian Home Day that emphasises parenting.\n\nChristian Home and Marriage Week begins on 11-18 February 2023
URL:https://brixtonsda.co.uk/event/christian-home-and-marriage-week/2025-01-05/
LOCATION:Brixton SDA Church\, Santley Street\, SW4 7QG
GEO:51.4614487;-0.1223025
X-APPLE-STRUCTURED-LOCATION;VALUE=URI;X-ADDRESS=Brixton SDA Church Santley Street SW4 7QG;X-APPLE-RADIUS=500;X-TITLE=Santley Street:geo:-0.1223025,51.4614487
END:VEVENT
BEGIN:VEVENT
DTSTART;TZID=UTC:20250106T113000
DTEND;TZID=UTC:20250113T130000
DTSTAMP:20260419T151041
CREATED:20230210T201645Z
LAST-MODIFIED:20230210T202444Z
UID:10003671-1736163000-1736773200@brixtonsda.co.uk
SUMMARY:Christian Home and Marriage Week
DESCRIPTION:Christian Home and Marriage Week takes place in February embracing two Sabbaths: \n\nChristian Marriage Day that emphasises Christian marriage\nChristian Home Day that emphasises parenting.\n\nChristian Home and Marriage Week begins on 11-18 February 2023
URL:https://brixtonsda.co.uk/event/christian-home-and-marriage-week/2025-01-06/
LOCATION:Brixton SDA Church\, Santley Street\, SW4 7QG
GEO:51.4614487;-0.1223025
X-APPLE-STRUCTURED-LOCATION;VALUE=URI;X-ADDRESS=Brixton SDA Church Santley Street SW4 7QG;X-APPLE-RADIUS=500;X-TITLE=Santley Street:geo:-0.1223025,51.4614487
END:VEVENT
BEGIN:VEVENT
DTSTART;TZID=UTC:20250107T113000
DTEND;TZID=UTC:20250114T130000
DTSTAMP:20260419T151041
CREATED:20230210T201645Z
LAST-MODIFIED:20230210T202444Z
UID:10003672-1736249400-1736859600@brixtonsda.co.uk
SUMMARY:Christian Home and Marriage Week
DESCRIPTION:Christian Home and Marriage Week takes place in February embracing two Sabbaths: \n\nChristian Marriage Day that emphasises Christian marriage\nChristian Home Day that emphasises parenting.\n\nChristian Home and Marriage Week begins on 11-18 February 2023
URL:https://brixtonsda.co.uk/event/christian-home-and-marriage-week/2025-01-07/
LOCATION:Brixton SDA Church\, Santley Street\, SW4 7QG
GEO:51.4614487;-0.1223025
X-APPLE-STRUCTURED-LOCATION;VALUE=URI;X-ADDRESS=Brixton SDA Church Santley Street SW4 7QG;X-APPLE-RADIUS=500;X-TITLE=Santley Street:geo:-0.1223025,51.4614487
END:VEVENT
BEGIN:VEVENT
DTSTART;TZID=UTC:20250108T113000
DTEND;TZID=UTC:20250115T130000
DTSTAMP:20260419T151041
CREATED:20230210T201645Z
LAST-MODIFIED:20230210T202444Z
UID:10003673-1736335800-1736946000@brixtonsda.co.uk
SUMMARY:Christian Home and Marriage Week
DESCRIPTION:Christian Home and Marriage Week takes place in February embracing two Sabbaths: \n\nChristian Marriage Day that emphasises Christian marriage\nChristian Home Day that emphasises parenting.\n\nChristian Home and Marriage Week begins on 11-18 February 2023
URL:https://brixtonsda.co.uk/event/christian-home-and-marriage-week/2025-01-08/
LOCATION:Brixton SDA Church\, Santley Street\, SW4 7QG
GEO:51.4614487;-0.1223025
X-APPLE-STRUCTURED-LOCATION;VALUE=URI;X-ADDRESS=Brixton SDA Church Santley Street SW4 7QG;X-APPLE-RADIUS=500;X-TITLE=Santley Street:geo:-0.1223025,51.4614487
END:VEVENT
BEGIN:VEVENT
DTSTART;TZID=UTC:20250109T113000
DTEND;TZID=UTC:20250116T130000
DTSTAMP:20260419T151041
CREATED:20230210T201645Z
LAST-MODIFIED:20230210T202444Z
UID:10003674-1736422200-1737032400@brixtonsda.co.uk
SUMMARY:Christian Home and Marriage Week
DESCRIPTION:Christian Home and Marriage Week takes place in February embracing two Sabbaths: \n\nChristian Marriage Day that emphasises Christian marriage\nChristian Home Day that emphasises parenting.\n\nChristian Home and Marriage Week begins on 11-18 February 2023
URL:https://brixtonsda.co.uk/event/christian-home-and-marriage-week/2025-01-09/
LOCATION:Brixton SDA Church\, Santley Street\, SW4 7QG
GEO:51.4614487;-0.1223025
X-APPLE-STRUCTURED-LOCATION;VALUE=URI;X-ADDRESS=Brixton SDA Church Santley Street SW4 7QG;X-APPLE-RADIUS=500;X-TITLE=Santley Street:geo:-0.1223025,51.4614487
END:VEVENT
BEGIN:VEVENT
DTSTART;TZID=UTC:20250110T113000
DTEND;TZID=UTC:20250117T130000
DTSTAMP:20260419T151041
CREATED:20230210T201645Z
LAST-MODIFIED:20230210T202444Z
UID:10003675-1736508600-1737118800@brixtonsda.co.uk
SUMMARY:Christian Home and Marriage Week
DESCRIPTION:Christian Home and Marriage Week takes place in February embracing two Sabbaths: \n\nChristian Marriage Day that emphasises Christian marriage\nChristian Home Day that emphasises parenting.\n\nChristian Home and Marriage Week begins on 11-18 February 2023
URL:https://brixtonsda.co.uk/event/christian-home-and-marriage-week/2025-01-10/
LOCATION:Brixton SDA Church\, Santley Street\, SW4 7QG
GEO:51.4614487;-0.1223025
X-APPLE-STRUCTURED-LOCATION;VALUE=URI;X-ADDRESS=Brixton SDA Church Santley Street SW4 7QG;X-APPLE-RADIUS=500;X-TITLE=Santley Street:geo:-0.1223025,51.4614487
END:VEVENT
BEGIN:VEVENT
DTSTART;TZID=UTC:20250111T113000
DTEND;TZID=UTC:20250111T130000
DTSTAMP:20260419T151041
CREATED:20200927T102441Z
LAST-MODIFIED:20200927T102441Z
UID:10002710-1736595000-1736600400@brixtonsda.co.uk
SUMMARY:Children's Day
DESCRIPTION:
URL:https://brixtonsda.co.uk/event/childrens-day/2025-01-11/
LOCATION:Brixton SDA Church\, Santley Street\, SW4 7QG
CATEGORIES:children
ORGANIZER;CN="Children's Ministries Department":MAILTO:childrensministries@brixtonsda.co.uk
GEO:51.4614487;-0.1223025
X-APPLE-STRUCTURED-LOCATION;VALUE=URI;X-ADDRESS=Brixton SDA Church Santley Street SW4 7QG;X-APPLE-RADIUS=500;X-TITLE=Santley Street:geo:-0.1223025,51.4614487
END:VEVENT
BEGIN:VEVENT
DTSTART;TZID=UTC:20250111T113000
DTEND;TZID=UTC:20250118T130000
DTSTAMP:20260419T151041
CREATED:20230210T201645Z
LAST-MODIFIED:20230210T202444Z
UID:10003676-1736595000-1737205200@brixtonsda.co.uk
SUMMARY:Christian Home and Marriage Week
DESCRIPTION:Christian Home and Marriage Week takes place in February embracing two Sabbaths: \n\nChristian Marriage Day that emphasises Christian marriage\nChristian Home Day that emphasises parenting.\n\nChristian Home and Marriage Week begins on 11-18 February 2023
URL:https://brixtonsda.co.uk/event/christian-home-and-marriage-week/2025-01-11/
LOCATION:Brixton SDA Church\, Santley Street\, SW4 7QG
GEO:51.4614487;-0.1223025
X-APPLE-STRUCTURED-LOCATION;VALUE=URI;X-ADDRESS=Brixton SDA Church Santley Street SW4 7QG;X-APPLE-RADIUS=500;X-TITLE=Santley Street:geo:-0.1223025,51.4614487
END:VEVENT
END:VCALENDAR