BEGIN:VCALENDAR
VERSION:2.0
PRODID:-//Brixton Seventh-day Adventist Church - ECPv6.15.20//NONSGML v1.0//EN
CALSCALE:GREGORIAN
METHOD:PUBLISH
X-ORIGINAL-URL:https://brixtonsda.co.uk
X-WR-CALDESC:Events for Brixton Seventh-day Adventist Church
REFRESH-INTERVAL;VALUE=DURATION:PT1H
X-Robots-Tag:noindex
X-PUBLISHED-TTL:PT1H
BEGIN:VTIMEZONE
TZID:UTC
BEGIN:STANDARD
TZOFFSETFROM:+0000
TZOFFSETTO:+0000
TZNAME:UTC
DTSTART:20170101T000000
END:STANDARD
END:VTIMEZONE
BEGIN:VEVENT
DTSTART;TZID=UTC:20181012T160000
DTEND;TZID=UTC:20181014T140000
DTSTAMP:20260424T152535
CREATED:20180427T165028Z
LAST-MODIFIED:20180427T165028Z
UID:10002363-1539360000-1539525600@brixtonsda.co.uk
SUMMARY:Student Congress
DESCRIPTION:University students from across the UK are invited for a weekend of spiritual nurture\, intellectual challenge and social integration. Save the dates!\n\nDATES: 12-14 October 2018\nLOCATION: Newland Park\, Gorelands Lane\, Chalfont Saint Giles\, HP8 4AD\nPRICE: To Be Confirmed (will include accommodation\, meals & resources)\n\nMore details to follow – please check back soon!
URL:https://brixtonsda.co.uk/event/student-congress/
LOCATION:Newlands Park\, Gorelands Lane\,\, Chalfont Saint Giles\,\, HP8 4AD\, United Kingdom
CATEGORIES:retreat,students
ATTACH;FMTTYPE=image/jpeg:https://brixtonsda.co.uk/wp-content/uploads/2018/04/CSC18-Poster.jpg
ORGANIZER;CN="SEC Campus Ministries":MAILTO:amclarty@secadventist.org.uk
GEO:51.634672;-0.5541698
X-APPLE-STRUCTURED-LOCATION;VALUE=URI;X-ADDRESS=DESCRIPTION:University students from across the UK are invited for a weekend of spiritual nurture intellectual challenge and social integration. Save the dates!\n\nDATES: 12-14 October 2018\n Newland Park Gorelands Lane Chalfont Saint Giles HP8 4AD\nPRICE: To Be Confirmed (will include accommodation meals & resources)\n\nMore details to follow – please check back soon!;X-APPLE-RADIUS=500;X-TITLE=Gorelands Lane\,:geo:-0.5541698,51.634672
END:VEVENT
BEGIN:VEVENT
DTSTART;VALUE=DATE:20180716
DTEND;VALUE=DATE:20180723
DTSTAMP:20260424T152535
CREATED:20180427T172325Z
LAST-MODIFIED:20180427T172437Z
UID:10002370-1531778400-1532296799@brixtonsda.co.uk
SUMMARY:Student Camp
DESCRIPTION:This special camp for university students is a peaceful seaside retreat on the Cornish coast\, making a welcome change from the urban familiar.\n\nVENUE: Chapel Porth Caravan Site\, Goonvrea\, St Agnes\, Cornwall\, TR5 0RN\nDATES: 17th – 22nd July 2018\nPRICE: £50 (includes meals\, accommodation\, activities and transport)\n\nVisit the SEC Teens’ Ministries website for full details: www.secteens.org/events/studentcamp
URL:https://brixtonsda.co.uk/event/student-camp/
LOCATION:Chapel Porth\, Chapel Porth Caravan Site\, Goonvrea\,\, St Agnes\, Cornwall\, TR5 0RN \, United Kingdom
CATEGORIES:retreat,students
ATTACH;FMTTYPE=image/jpeg:https://brixtonsda.co.uk/wp-content/uploads/2018/04/SC18-Poster.jpg
GEO:50.3007354;-5.2354695
X-APPLE-STRUCTURED-LOCATION;VALUE=URI;X-ADDRESS=Chapel Porth Chapel Porth Caravan Site Goonvrea St Agnes Cornwall TR5 0RN  United Kingdom;X-APPLE-RADIUS=500;X-TITLE=Chapel Porth Caravan Site\, Goonvrea\,:geo:-5.2354695,50.3007354
END:VEVENT
END:VCALENDAR