BEGIN:VCALENDAR
VERSION:2.0
PRODID:-//Brixton Seventh-day Adventist Church - ECPv6.15.20//NONSGML v1.0//EN
CALSCALE:GREGORIAN
METHOD:PUBLISH
X-WR-CALNAME:Brixton Seventh-day Adventist Church
X-ORIGINAL-URL:https://brixtonsda.co.uk
X-WR-CALDESC:Events for Brixton Seventh-day Adventist Church
REFRESH-INTERVAL;VALUE=DURATION:PT1H
X-Robots-Tag:noindex
X-PUBLISHED-TTL:PT1H
BEGIN:VTIMEZONE
TZID:UTC
BEGIN:STANDARD
TZOFFSETFROM:+0000
TZOFFSETTO:+0000
TZNAME:UTC
DTSTART:20240101T000000
END:STANDARD
END:VTIMEZONE
BEGIN:VEVENT
DTSTART;TZID=UTC:20250725T113000
DTEND;TZID=UTC:20250801T130000
DTSTAMP:20260420T131552
CREATED:20230210T201645Z
LAST-MODIFIED:20230210T202444Z
UID:10003871-1753443000-1754053200@brixtonsda.co.uk
SUMMARY:Christian Home and Marriage Week
DESCRIPTION:Christian Home and Marriage Week takes place in February embracing two Sabbaths: \n\nChristian Marriage Day that emphasises Christian marriage\nChristian Home Day that emphasises parenting.\n\nChristian Home and Marriage Week begins on 11-18 February 2023
URL:https://brixtonsda.co.uk/event/christian-home-and-marriage-week/2025-07-25/
LOCATION:Brixton SDA Church\, Santley Street\, SW4 7QG
GEO:51.4614487;-0.1223025
X-APPLE-STRUCTURED-LOCATION;VALUE=URI;X-ADDRESS=Brixton SDA Church Santley Street SW4 7QG;X-APPLE-RADIUS=500;X-TITLE=Santley Street:geo:-0.1223025,51.4614487
END:VEVENT
BEGIN:VEVENT
DTSTART;TZID=UTC:20250726T113000
DTEND;TZID=UTC:20250802T130000
DTSTAMP:20260420T131552
CREATED:20230210T201645Z
LAST-MODIFIED:20230210T202444Z
UID:10003872-1753529400-1754139600@brixtonsda.co.uk
SUMMARY:Christian Home and Marriage Week
DESCRIPTION:Christian Home and Marriage Week takes place in February embracing two Sabbaths: \n\nChristian Marriage Day that emphasises Christian marriage\nChristian Home Day that emphasises parenting.\n\nChristian Home and Marriage Week begins on 11-18 February 2023
URL:https://brixtonsda.co.uk/event/christian-home-and-marriage-week/2025-07-26/
LOCATION:Brixton SDA Church\, Santley Street\, SW4 7QG
GEO:51.4614487;-0.1223025
X-APPLE-STRUCTURED-LOCATION;VALUE=URI;X-ADDRESS=Brixton SDA Church Santley Street SW4 7QG;X-APPLE-RADIUS=500;X-TITLE=Santley Street:geo:-0.1223025,51.4614487
END:VEVENT
BEGIN:VEVENT
DTSTART;TZID=UTC:20250727T113000
DTEND;TZID=UTC:20250803T130000
DTSTAMP:20260420T131552
CREATED:20230210T201645Z
LAST-MODIFIED:20230210T202444Z
UID:10003873-1753615800-1754226000@brixtonsda.co.uk
SUMMARY:Christian Home and Marriage Week
DESCRIPTION:Christian Home and Marriage Week takes place in February embracing two Sabbaths: \n\nChristian Marriage Day that emphasises Christian marriage\nChristian Home Day that emphasises parenting.\n\nChristian Home and Marriage Week begins on 11-18 February 2023
URL:https://brixtonsda.co.uk/event/christian-home-and-marriage-week/2025-07-27/
LOCATION:Brixton SDA Church\, Santley Street\, SW4 7QG
GEO:51.4614487;-0.1223025
X-APPLE-STRUCTURED-LOCATION;VALUE=URI;X-ADDRESS=Brixton SDA Church Santley Street SW4 7QG;X-APPLE-RADIUS=500;X-TITLE=Santley Street:geo:-0.1223025,51.4614487
END:VEVENT
BEGIN:VEVENT
DTSTART;TZID=UTC:20250728T113000
DTEND;TZID=UTC:20250804T130000
DTSTAMP:20260420T131552
CREATED:20230210T201645Z
LAST-MODIFIED:20230210T202444Z
UID:10003874-1753702200-1754312400@brixtonsda.co.uk
SUMMARY:Christian Home and Marriage Week
DESCRIPTION:Christian Home and Marriage Week takes place in February embracing two Sabbaths: \n\nChristian Marriage Day that emphasises Christian marriage\nChristian Home Day that emphasises parenting.\n\nChristian Home and Marriage Week begins on 11-18 February 2023
URL:https://brixtonsda.co.uk/event/christian-home-and-marriage-week/2025-07-28/
LOCATION:Brixton SDA Church\, Santley Street\, SW4 7QG
GEO:51.4614487;-0.1223025
X-APPLE-STRUCTURED-LOCATION;VALUE=URI;X-ADDRESS=Brixton SDA Church Santley Street SW4 7QG;X-APPLE-RADIUS=500;X-TITLE=Santley Street:geo:-0.1223025,51.4614487
END:VEVENT
BEGIN:VEVENT
DTSTART;TZID=UTC:20250729T113000
DTEND;TZID=UTC:20250805T130000
DTSTAMP:20260420T131552
CREATED:20230210T201645Z
LAST-MODIFIED:20230210T202444Z
UID:10003875-1753788600-1754398800@brixtonsda.co.uk
SUMMARY:Christian Home and Marriage Week
DESCRIPTION:Christian Home and Marriage Week takes place in February embracing two Sabbaths: \n\nChristian Marriage Day that emphasises Christian marriage\nChristian Home Day that emphasises parenting.\n\nChristian Home and Marriage Week begins on 11-18 February 2023
URL:https://brixtonsda.co.uk/event/christian-home-and-marriage-week/2025-07-29/
LOCATION:Brixton SDA Church\, Santley Street\, SW4 7QG
GEO:51.4614487;-0.1223025
X-APPLE-STRUCTURED-LOCATION;VALUE=URI;X-ADDRESS=Brixton SDA Church Santley Street SW4 7QG;X-APPLE-RADIUS=500;X-TITLE=Santley Street:geo:-0.1223025,51.4614487
END:VEVENT
BEGIN:VEVENT
DTSTART;TZID=UTC:20250730T113000
DTEND;TZID=UTC:20250806T130000
DTSTAMP:20260420T131552
CREATED:20230210T201645Z
LAST-MODIFIED:20230210T202444Z
UID:10003876-1753875000-1754485200@brixtonsda.co.uk
SUMMARY:Christian Home and Marriage Week
DESCRIPTION:Christian Home and Marriage Week takes place in February embracing two Sabbaths: \n\nChristian Marriage Day that emphasises Christian marriage\nChristian Home Day that emphasises parenting.\n\nChristian Home and Marriage Week begins on 11-18 February 2023
URL:https://brixtonsda.co.uk/event/christian-home-and-marriage-week/2025-07-30/
LOCATION:Brixton SDA Church\, Santley Street\, SW4 7QG
GEO:51.4614487;-0.1223025
X-APPLE-STRUCTURED-LOCATION;VALUE=URI;X-ADDRESS=Brixton SDA Church Santley Street SW4 7QG;X-APPLE-RADIUS=500;X-TITLE=Santley Street:geo:-0.1223025,51.4614487
END:VEVENT
BEGIN:VEVENT
DTSTART;TZID=UTC:20250731T113000
DTEND;TZID=UTC:20250807T130000
DTSTAMP:20260420T131552
CREATED:20230210T201645Z
LAST-MODIFIED:20230210T202444Z
UID:10003877-1753961400-1754571600@brixtonsda.co.uk
SUMMARY:Christian Home and Marriage Week
DESCRIPTION:Christian Home and Marriage Week takes place in February embracing two Sabbaths: \n\nChristian Marriage Day that emphasises Christian marriage\nChristian Home Day that emphasises parenting.\n\nChristian Home and Marriage Week begins on 11-18 February 2023
URL:https://brixtonsda.co.uk/event/christian-home-and-marriage-week/2025-07-31/
LOCATION:Brixton SDA Church\, Santley Street\, SW4 7QG
GEO:51.4614487;-0.1223025
X-APPLE-STRUCTURED-LOCATION;VALUE=URI;X-ADDRESS=Brixton SDA Church Santley Street SW4 7QG;X-APPLE-RADIUS=500;X-TITLE=Santley Street:geo:-0.1223025,51.4614487
END:VEVENT
BEGIN:VEVENT
DTSTART;TZID=UTC:20250801T113000
DTEND;TZID=UTC:20250808T130000
DTSTAMP:20260420T131552
CREATED:20230210T201645Z
LAST-MODIFIED:20230210T202444Z
UID:10003878-1754047800-1754658000@brixtonsda.co.uk
SUMMARY:Christian Home and Marriage Week
DESCRIPTION:Christian Home and Marriage Week takes place in February embracing two Sabbaths: \n\nChristian Marriage Day that emphasises Christian marriage\nChristian Home Day that emphasises parenting.\n\nChristian Home and Marriage Week begins on 11-18 February 2023
URL:https://brixtonsda.co.uk/event/christian-home-and-marriage-week/2025-08-01/
LOCATION:Brixton SDA Church\, Santley Street\, SW4 7QG
GEO:51.4614487;-0.1223025
X-APPLE-STRUCTURED-LOCATION;VALUE=URI;X-ADDRESS=Brixton SDA Church Santley Street SW4 7QG;X-APPLE-RADIUS=500;X-TITLE=Santley Street:geo:-0.1223025,51.4614487
END:VEVENT
END:VCALENDAR