BEGIN:VCALENDAR
VERSION:2.0
PRODID:-//Brixton Seventh-day Adventist Church - ECPv6.15.20//NONSGML v1.0//EN
CALSCALE:GREGORIAN
METHOD:PUBLISH
X-ORIGINAL-URL:https://brixtonsda.co.uk
X-WR-CALDESC:Events for Brixton Seventh-day Adventist Church
REFRESH-INTERVAL;VALUE=DURATION:PT1H
X-Robots-Tag:noindex
X-PUBLISHED-TTL:PT1H
BEGIN:VTIMEZONE
TZID:UTC
BEGIN:STANDARD
TZOFFSETFROM:+0000
TZOFFSETTO:+0000
TZNAME:UTC
DTSTART:20240101T000000
END:STANDARD
END:VTIMEZONE
BEGIN:VEVENT
DTSTART;TZID=UTC:20250622T113000
DTEND;TZID=UTC:20250629T130000
DTSTAMP:20260424T121103
CREATED:20230210T201645Z
LAST-MODIFIED:20230210T202444Z
UID:10003838-1750591800-1751202000@brixtonsda.co.uk
SUMMARY:Christian Home and Marriage Week
DESCRIPTION:Christian Home and Marriage Week takes place in February embracing two Sabbaths: \n\nChristian Marriage Day that emphasises Christian marriage\nChristian Home Day that emphasises parenting.\n\nChristian Home and Marriage Week begins on 11-18 February 2023
URL:https://brixtonsda.co.uk/event/christian-home-and-marriage-week/2025-06-22/
LOCATION:Brixton SDA Church\, Santley Street\, SW4 7QG
GEO:51.4614487;-0.1223025
X-APPLE-STRUCTURED-LOCATION;VALUE=URI;X-ADDRESS=Brixton SDA Church Santley Street SW4 7QG;X-APPLE-RADIUS=500;X-TITLE=Santley Street:geo:-0.1223025,51.4614487
END:VEVENT
BEGIN:VEVENT
DTSTART;TZID=UTC:20250623T113000
DTEND;TZID=UTC:20250630T130000
DTSTAMP:20260424T121103
CREATED:20230210T201645Z
LAST-MODIFIED:20230210T202444Z
UID:10003839-1750678200-1751288400@brixtonsda.co.uk
SUMMARY:Christian Home and Marriage Week
DESCRIPTION:Christian Home and Marriage Week takes place in February embracing two Sabbaths: \n\nChristian Marriage Day that emphasises Christian marriage\nChristian Home Day that emphasises parenting.\n\nChristian Home and Marriage Week begins on 11-18 February 2023
URL:https://brixtonsda.co.uk/event/christian-home-and-marriage-week/2025-06-23/
LOCATION:Brixton SDA Church\, Santley Street\, SW4 7QG
GEO:51.4614487;-0.1223025
X-APPLE-STRUCTURED-LOCATION;VALUE=URI;X-ADDRESS=Brixton SDA Church Santley Street SW4 7QG;X-APPLE-RADIUS=500;X-TITLE=Santley Street:geo:-0.1223025,51.4614487
END:VEVENT
BEGIN:VEVENT
DTSTART;TZID=UTC:20250624T113000
DTEND;TZID=UTC:20250701T130000
DTSTAMP:20260424T121103
CREATED:20230210T201645Z
LAST-MODIFIED:20230210T202444Z
UID:10003840-1750764600-1751374800@brixtonsda.co.uk
SUMMARY:Christian Home and Marriage Week
DESCRIPTION:Christian Home and Marriage Week takes place in February embracing two Sabbaths: \n\nChristian Marriage Day that emphasises Christian marriage\nChristian Home Day that emphasises parenting.\n\nChristian Home and Marriage Week begins on 11-18 February 2023
URL:https://brixtonsda.co.uk/event/christian-home-and-marriage-week/2025-06-24/
LOCATION:Brixton SDA Church\, Santley Street\, SW4 7QG
GEO:51.4614487;-0.1223025
X-APPLE-STRUCTURED-LOCATION;VALUE=URI;X-ADDRESS=Brixton SDA Church Santley Street SW4 7QG;X-APPLE-RADIUS=500;X-TITLE=Santley Street:geo:-0.1223025,51.4614487
END:VEVENT
BEGIN:VEVENT
DTSTART;TZID=UTC:20250625T113000
DTEND;TZID=UTC:20250702T130000
DTSTAMP:20260424T121103
CREATED:20230210T201645Z
LAST-MODIFIED:20230210T202444Z
UID:10003841-1750851000-1751461200@brixtonsda.co.uk
SUMMARY:Christian Home and Marriage Week
DESCRIPTION:Christian Home and Marriage Week takes place in February embracing two Sabbaths: \n\nChristian Marriage Day that emphasises Christian marriage\nChristian Home Day that emphasises parenting.\n\nChristian Home and Marriage Week begins on 11-18 February 2023
URL:https://brixtonsda.co.uk/event/christian-home-and-marriage-week/2025-06-25/
LOCATION:Brixton SDA Church\, Santley Street\, SW4 7QG
GEO:51.4614487;-0.1223025
X-APPLE-STRUCTURED-LOCATION;VALUE=URI;X-ADDRESS=Brixton SDA Church Santley Street SW4 7QG;X-APPLE-RADIUS=500;X-TITLE=Santley Street:geo:-0.1223025,51.4614487
END:VEVENT
BEGIN:VEVENT
DTSTART;TZID=UTC:20250626T113000
DTEND;TZID=UTC:20250703T130000
DTSTAMP:20260424T121103
CREATED:20230210T201645Z
LAST-MODIFIED:20230210T202444Z
UID:10003842-1750937400-1751547600@brixtonsda.co.uk
SUMMARY:Christian Home and Marriage Week
DESCRIPTION:Christian Home and Marriage Week takes place in February embracing two Sabbaths: \n\nChristian Marriage Day that emphasises Christian marriage\nChristian Home Day that emphasises parenting.\n\nChristian Home and Marriage Week begins on 11-18 February 2023
URL:https://brixtonsda.co.uk/event/christian-home-and-marriage-week/2025-06-26/
LOCATION:Brixton SDA Church\, Santley Street\, SW4 7QG
GEO:51.4614487;-0.1223025
X-APPLE-STRUCTURED-LOCATION;VALUE=URI;X-ADDRESS=Brixton SDA Church Santley Street SW4 7QG;X-APPLE-RADIUS=500;X-TITLE=Santley Street:geo:-0.1223025,51.4614487
END:VEVENT
BEGIN:VEVENT
DTSTART;TZID=UTC:20250627T113000
DTEND;TZID=UTC:20250704T130000
DTSTAMP:20260424T121103
CREATED:20230210T201645Z
LAST-MODIFIED:20230210T202444Z
UID:10003843-1751023800-1751634000@brixtonsda.co.uk
SUMMARY:Christian Home and Marriage Week
DESCRIPTION:Christian Home and Marriage Week takes place in February embracing two Sabbaths: \n\nChristian Marriage Day that emphasises Christian marriage\nChristian Home Day that emphasises parenting.\n\nChristian Home and Marriage Week begins on 11-18 February 2023
URL:https://brixtonsda.co.uk/event/christian-home-and-marriage-week/2025-06-27/
LOCATION:Brixton SDA Church\, Santley Street\, SW4 7QG
GEO:51.4614487;-0.1223025
X-APPLE-STRUCTURED-LOCATION;VALUE=URI;X-ADDRESS=Brixton SDA Church Santley Street SW4 7QG;X-APPLE-RADIUS=500;X-TITLE=Santley Street:geo:-0.1223025,51.4614487
END:VEVENT
BEGIN:VEVENT
DTSTART;TZID=UTC:20250628T113000
DTEND;TZID=UTC:20250705T130000
DTSTAMP:20260424T121103
CREATED:20230210T201645Z
LAST-MODIFIED:20230210T202444Z
UID:10003844-1751110200-1751720400@brixtonsda.co.uk
SUMMARY:Christian Home and Marriage Week
DESCRIPTION:Christian Home and Marriage Week takes place in February embracing two Sabbaths: \n\nChristian Marriage Day that emphasises Christian marriage\nChristian Home Day that emphasises parenting.\n\nChristian Home and Marriage Week begins on 11-18 February 2023
URL:https://brixtonsda.co.uk/event/christian-home-and-marriage-week/2025-06-28/
LOCATION:Brixton SDA Church\, Santley Street\, SW4 7QG
GEO:51.4614487;-0.1223025
X-APPLE-STRUCTURED-LOCATION;VALUE=URI;X-ADDRESS=Brixton SDA Church Santley Street SW4 7QG;X-APPLE-RADIUS=500;X-TITLE=Santley Street:geo:-0.1223025,51.4614487
END:VEVENT
BEGIN:VEVENT
DTSTART;TZID=UTC:20250629T113000
DTEND;TZID=UTC:20250706T130000
DTSTAMP:20260424T121103
CREATED:20230210T201645Z
LAST-MODIFIED:20230210T202444Z
UID:10003845-1751196600-1751806800@brixtonsda.co.uk
SUMMARY:Christian Home and Marriage Week
DESCRIPTION:Christian Home and Marriage Week takes place in February embracing two Sabbaths: \n\nChristian Marriage Day that emphasises Christian marriage\nChristian Home Day that emphasises parenting.\n\nChristian Home and Marriage Week begins on 11-18 February 2023
URL:https://brixtonsda.co.uk/event/christian-home-and-marriage-week/2025-06-29/
LOCATION:Brixton SDA Church\, Santley Street\, SW4 7QG
GEO:51.4614487;-0.1223025
X-APPLE-STRUCTURED-LOCATION;VALUE=URI;X-ADDRESS=Brixton SDA Church Santley Street SW4 7QG;X-APPLE-RADIUS=500;X-TITLE=Santley Street:geo:-0.1223025,51.4614487
END:VEVENT
END:VCALENDAR